BEGIN:VCALENDAR
VERSION:2.0
PRODID:-//ChamberMaster//Event Calendar 2.0//EN
METHOD:PUBLISH
X-PUBLISHED-TTL:P3D
REFRESH-INTERVAL:P3D
CALSCALE:GREGORIAN
BEGIN:VEVENT
DTSTART:20160510T123000Z
DTEND:20160510T140000Z
X-MICROSOFT-CDO-ALLDAYEVENT:FALSE
SUMMARY:MARKETING AUTOMATION FOR BUSINESS
DESCRIPTION:Join Kevin Krason\, founder of digital marketing firm Biznet\, for an information session on marketing automation for business. Learn how to build an automated marketing ecosystem that attracts qualified leads through an integrated marketing strategy\, nurture those leads by delivering the right personalized message at the right time\, and score the interactions to deliver ready buyers for the first purchase and the next. Over time\, these efforts help a business grow by creating a proven\, repeatable\, efficient marketing system.
X-ALT-DESC;FMTTYPE=text/html:<span style="background-color:rgb(255\, 255\, 255)\; color:rgb(64\, 64\, 65)">Join Kevin Krason\, founder of digital marketing firm Biznet\, for an information session on marketing automation for business. Learn how to build an automated marketing ecosystem that attracts qualified leads through an integrated marketing strategy\, nurture those leads by delivering the right personalized message at the right time\, and score the interactions to deliver ready buyers for the first purchase and the next. Over time\, these efforts help a business grow by creating a proven\, repeatable\, efficient marketing system.&nbsp\;</span>
LOCATION:Automation Alley\, 2675 Bellingham Dr.\, Troy\, MI 48083
UID:e.1571.3703
SEQUENCE:3
DTSTAMP:20260424T093313Z
URL:https://business.auburnhillschamber.com/events/details/marketing-automation-for-business-05-10-2016-3703
END:VEVENT

END:VCALENDAR
