BEGIN:VCALENDAR
VERSION:2.0
PRODID:-//ChamberMaster//Event Calendar 2.0//EN
METHOD:PUBLISH
X-PUBLISHED-TTL:P3D
REFRESH-INTERVAL:P3D
CALSCALE:GREGORIAN
BEGIN:VEVENT
DTSTART:20160311T143000Z
DTEND:20160312T033000Z
X-MICROSOFT-CDO-ALLDAYEVENT:FALSE
SUMMARY:Meet & Greet with Senator Peters
DESCRIPTION:U.S. Senator Peters will be visiting Auburn Hills on Friday\, March 11th.  \n\n \n\nContinental Corporation is graciously hosting the Senator's visit (and continental breakfast). This visit is open exclusively to Auburn Hills Chamber members. Please register quickly\, as there will be limited space. Due to corporate security protocols at Continental's facility\, pre-registration through the Chamber is required.  \n\n \n\n \n\n	9:30 a.m.   10:00 a.m.  Senator Peters will mingle with our membership and Continental's guests\n	10:00 a.m.  Senator Peters will make remarks\; followed by Q & A ending by 10:30 a.m.\n\n \n\nThis is a unique opportunity to meet with our U.S. Senator and to learn more about the work he does to represent Michigan and Auburn Hills in the United States Senate.  His visit will also allow some of our members to share their expectations with him for growth and business development. Please register through our website and join us for this very special occasion.
X-ALT-DESC;FMTTYPE=text/html:<span style="font-size: medium\;"><span style="font-family: calibri\;">U.S. Senator Peters will be visiting Auburn Hills on Friday\, March 11<sup><span style="font-size: small\;">th</span></sup>.&nbsp\; </span></span><br />\n&nbsp\;<br />\n<span style="font-size: medium\;"><span style="font-family: calibri\;">Continental Corporation is graciously hosting the Senator&rsquo\;s visit (and continental breakfast). This visit is open exclusively to Auburn Hills Chamber members. Please register quickly\, as there will be limited space. Due to corporate security protocols at Continental&rsquo\;s facility\, pre-registration through the Chamber is required.&nbsp\; </span></span><br />\n&nbsp\;<br />\n&nbsp\;\n<ul>\n	<li><span style="font-size: medium\;"><span style="font-family: calibri\;">9:30 a.m. &ndash\; 10:00 a.m.&nbsp\; Senator Peters will mingle with our membership and Continental&rsquo\;s guests</span></span></li>\n	<li><span style="font-size: medium\;"><span style="font-family: calibri\;">10:00 a.m.&nbsp\; Senator Peters will make remarks\; followed by Q &amp\; A ending by 10:30 a.m.</span></span></li>\n</ul>\n&nbsp\;<br />\n<span style="font-size: 11pt\;"><span style="font-family: calibri\,sans-serif\;">This is a unique opportunity to meet with our U.S. Senator and to learn more about the work he does to represent Michigan and Auburn Hills in the United States Senate. &nbsp\;His visit will also allow some of our members to share their expectations with him for growth and business development. Please register through our website and join us for this very special occasion. </span></span>
LOCATION:Continental Corporation 1 Continental Dr. Auburn Hills\, MI 48326
UID:e.1571.3683
SEQUENCE:3
DTSTAMP:20260424T131906Z
URL:https://business.auburnhillschamber.com/events/details/meet-greet-with-senator-peters-03-11-2016-3683
END:VEVENT

END:VCALENDAR
