BEGIN:VCALENDAR
VERSION:2.0
PRODID:-//ChamberMaster//Event Calendar 2.0//EN
METHOD:PUBLISH
X-PUBLISHED-TTL:P3D
REFRESH-INTERVAL:P3D
CALSCALE:GREGORIAN
BEGIN:VEVENT
DTSTART:20151029T130000Z
DTEND:20151029T140000Z
X-MICROSOFT-CDO-ALLDAYEVENT:FALSE
SUMMARY:Membership 101 (October)
DESCRIPTION:Chambers reflect the priorities of members and the goals of the community.  Whether you are a current member looking to leverage your investment\, or a business considering membership\, we encourage you to attend our upcoming orientation.  Join us to learn about the benefits\, services\, resources and support available through membership\, as you learn how we work as a strategic partner.  \n\n\n\nThere is no charge to attend this event\, but registration is required. You can register online or call (248) 853-7862 x204. If you have any questions\, contact Tracey Rettig\, Business Development Manager at trettig@auburnhillschamber.com.
X-ALT-DESC;FMTTYPE=text/html:Chambers reflect the priorities of members and the goals of the community.&nbsp\; Whether you are a current member looking to leverage your investment\, or a business considering membership\, we encourage you to attend our upcoming orientation.&nbsp\; Join us to learn about the benefits\, services\, resources and support available through membership\, as you learn how we work as a strategic partner.&nbsp\;&nbsp\;<br />\n<br />\nThere is no charge to attend this event\, but registration is required. You can register online or call (248) 853-7862 x204. <span style="line-height: 20.7999992370605px\;">If you have any questions\, contact&nbsp\;</span><span style="line-height: 20.7999992370605px\;">Tracey&nbsp\;</span>Rettig<span style="line-height: 20.7999992370605px\;">\,&nbsp\;Business Development&nbsp\;Manager at&nbsp\;</span><a href="mailto:trettig@auburnhillschamber.com" shape="rect" style="line-height: 20.7999992370605px\;" target="_blank">trettig@auburnhillschamber.com</a><span style="line-height: 20.7999992370605px\;">.</span><br />\n&nbsp\;
LOCATION:Hospitality Sponsor Auburn Hills Marriott Pontiac at Centerpoint 3600 Centerpoint Pkwy Pontiac\, MI 48431
UID:e.1571.1228
SEQUENCE:3
DTSTAMP:20260425T022738Z
URL:https://business.auburnhillschamber.com/events/details/membership-101-october-10-29-2015-1228
END:VEVENT

END:VCALENDAR
