BEGIN:VCALENDAR
VERSION:2.0
PRODID:-//ChamberMaster//Event Calendar 2.0//EN
METHOD:PUBLISH
X-PUBLISHED-TTL:P3D
REFRESH-INTERVAL:P3D
CALSCALE:GREGORIAN
BEGIN:VEVENT
DTSTART:20170302T220000Z
DTEND:20170303T013000Z
X-MICROSOFT-CDO-ALLDAYEVENT:FALSE
SUMMARY:Michigan's Food and Agriculture Industry Gala
DESCRIPTION:Michigan's Food and Agriculture industry is the second-largest economic driver and employs more than one million Michigan residents.  Corp! is proud to introduce an awards gala to celebrate an industry that is moving Michigan forward on so many levles: agriculuture\, retail\, packaging and distribution. We are esxpecting over 200 Michigan Food & Agriculture Executives for this year's event.
X-ALT-DESC;FMTTYPE=text/html:Michigan&#39\;s Food and Agriculture industry is the second-largest economic driver and employs more than one million Michigan residents. &nbsp\;Corp! is proud to introduce an awards gala to celebrate an industry that is moving Michigan forward on so many levles: agriculuture\, retail\, packaging and distribution. We are esxpecting over 200 Michigan Food &amp\; Agriculture Executives for this year&#39\;s event. &nbsp\;
LOCATION:Greektown Casino Hotel\, Detroit
UID:e.1571.4193
SEQUENCE:3
DTSTAMP:20260423T100614Z
URL:https://business.auburnhillschamber.com/events/details/michigan-s-food-and-agriculture-industry-gala-4193
END:VEVENT

END:VCALENDAR
