BEGIN:VCALENDAR
VERSION:2.0
PRODID:-//ChamberMaster//Event Calendar 2.0//EN
METHOD:PUBLISH
X-PUBLISHED-TTL:P3D
REFRESH-INTERVAL:P3D
CALSCALE:GREGORIAN
BEGIN:VEVENT
DTSTART:20170427T210000Z
DTEND:20170428T003000Z
X-MICROSOFT-CDO-ALLDAYEVENT:FALSE
SUMMARY:Michigan's Most Valuable Professionals & Millenials - MVP Awards
DESCRIPTION:Corp! Magazine will honor Michigan's Most Valuable Professionals & Millenials from C-Suite Executives.  \n\nApril 2017 - International Banquent Center\, Detroit \n\nThese professionals are making business happen in Michigan\, serving their community\, demonstrating strong leadership skills in growing and managing a successful business\, becoming industry experts\, and delivering lucrative business results. The morning will include networking in our exhibit gallery\, breakfast and a wonderful keynote presentation\, followed by our awards celebration.\n\nJoin us for a morning of networking and celebrating Michigan's Most Valuable Professionals\, Millennials and Entrepeneurs.\n\nFor sponsorship opportunities or to inquire about an exhibit booth\, please contact Heather Berekdar at hberekdar@corpmagazine.com or (586) 393-4384
X-ALT-DESC;FMTTYPE=text/html:<p>Corp! Magazine will honor Michigan&#39\;s Most Valuable Professionals &amp\; Millenials from C-Suite Executives. &nbsp\;<br />\nApril 2017 - International Banquent Center\, Detroit&nbsp\;</p>\n\n<p>These professionals are making business happen in Michigan\, serving their community\, demonstrating strong leadership skills in growing and managing a successful business\, becoming industry experts\, and delivering lucrative business results. The morning will include networking in our exhibit gallery\, breakfast and a wonderful keynote presentation\, followed by our awards celebration.</p>\n\n<p>Join us for a morning of networking and celebrating Michigan&rsquo\;s Most Valuable Professionals\, Millennials and Entrepeneurs.<br />\nFor sponsorship opportunities or to inquire about an exhibit booth\, please contact Heather Berekdar at hberekdar@corpmagazine.com or (586) 393-4384<br />\n&nbsp\;</p>\n
LOCATION:
UID:e.1571.4596
SEQUENCE:3
DTSTAMP:20260423T063405Z
URL:https://business.auburnhillschamber.com/events/details/michigan-s-most-valuable-professionals-millenials-mvp-awards-4596
END:VEVENT

END:VCALENDAR
