BEGIN:VCALENDAR
VERSION:2.0
PRODID:-//ChamberMaster//Event Calendar 2.0//EN
METHOD:PUBLISH
X-PUBLISHED-TTL:P3D
REFRESH-INTERVAL:P3D
CALSCALE:GREGORIAN
BEGIN:VEVENT
DTSTART;VALUE=DATE:20170727
DTEND;VALUE=DATE:20170728
TRANSP:TRANSPARENT
X-MICROSOFT-CDO-ALLDAYEVENT:TRUE
SUMMARY:Miracle Treat Day!
DESCRIPTION:Please join us for a day of giving back to our community!\n\n\n\nFor every Blizzard Treat we sell on Thursday\, July 27\, the Dairy Queen of Auburn Hills will donate $1 to our local Children's Miracle Network Hopsital!
X-ALT-DESC;FMTTYPE=text/html:<span style="font-size:28px">Please join us for a day of giving back to our community!<br />\n<br />\nFor every Blizzard Treat we sell on Thursday\, July 27\, the Dairy Queen of Auburn Hills will donate $1 to our local Children&#39\;s Miracle Network Hopsital!</span><br />\n&nbsp\;
LOCATION:Dairy Queen of Auburn Hills 3053 E. Walton Blvd Auburn Hills\, MI\, 48326 Located 1/4 mile West of Squirrel in the Walton Village Plaza
UID:e.1571.5071
SEQUENCE:3
DTSTAMP:20260423T012740Z
URL:https://business.auburnhillschamber.com/events/details/miracle-treat-day-5071
END:VEVENT

END:VCALENDAR
