BEGIN:VCALENDAR
VERSION:2.0
PRODID:-//ChamberMaster//Event Calendar 2.0//EN
METHOD:PUBLISH
X-PUBLISHED-TTL:P3D
REFRESH-INTERVAL:P3D
CALSCALE:GREGORIAN
BEGIN:VEVENT
DTSTART;VALUE=DATE:20170407
DTEND;VALUE=DATE:20170408
TRANSP:TRANSPARENT
X-MICROSOFT-CDO-ALLDAYEVENT:TRUE
SUMMARY:National Beer Day - O'Malley's at the Crowne Plaza Auburn Hills
DESCRIPTION:Come celebrate National Beer Day with us in O'Malley's on April 7\, 2017.  ALL Drafts will be $3.00 ALL Day!  Print this add and receive a Free Warm Bavarian Pretzel. (Limit is one free pretzel with this coupon)  Valid on 4/7/17 only.
X-ALT-DESC;FMTTYPE=text/html:Come celebrate National Beer Day with us in O&#39\;Malley&#39\;s on April 7\, 2017.&nbsp\; ALL Drafts will be $3.00 ALL Day!&nbsp\; Print this add and receive a Free Warm Bavarian Pretzel. (Limit is one free pretzel with this coupon)&nbsp\; Valid on 4/7/17 only.
LOCATION:O'Malley's (in the Crowne Plaza) 1500 North Opdyke Road Auburn Hills\, MI 48326
UID:e.1571.4652
SEQUENCE:3
DTSTAMP:20260423T063333Z
URL:https://business.auburnhillschamber.com/events/details/national-beer-day-o-malley-s-at-the-crowne-plaza-auburn-hills-4652
END:VEVENT

END:VCALENDAR
