BEGIN:VCALENDAR
VERSION:2.0
PRODID:-//ChamberMaster//Event Calendar 2.0//EN
METHOD:PUBLISH
X-PUBLISHED-TTL:P3D
REFRESH-INTERVAL:P3D
CALSCALE:GREGORIAN
BEGIN:VEVENT
DTSTART:20180126T150000Z
DTEND:20180126T170000Z
X-MICROSOFT-CDO-ALLDAYEVENT:FALSE
SUMMARY:Nature's Getaways
DESCRIPTION:Meadow Brook Garden Club presents guest speaker\, Ron Rademacher. Ron is a traveler and explorer in search of natural wonders and historic sites and is the author of the Michigan Back Roads books. He will talk about little-known nature areas and trails that a garden lover will enjoy as well as the local attractions nearby. For more information\, call 248-364-6210\, email MBGCmembers@gmail.com or visit www.meadowbrookhall.org.
X-ALT-DESC;FMTTYPE=text/html:Meadow Brook Garden Club presents guest speaker\, Ron Rademacher. Ron is a traveler and explorer in search of natural wonders and historic sites and is the author of the Michigan Back Roads books. He will talk about little-known nature areas and trails that a garden lover will enjoy as well as the local attractions nearby. For more information\, call 248-364-6210\, email MBGCmembers@gmail.com or visit www.meadowbrookhall.org.
LOCATION:Meadow Brook Hall\, 350 Estate Dr.\, Rochester MI 48309-1904.
UID:e.1571.5887
SEQUENCE:3
DTSTAMP:20260422T094942Z
URL:https://business.auburnhillschamber.com/events/details/nature-s-getaways-5887
END:VEVENT

END:VCALENDAR
