BEGIN:VCALENDAR
VERSION:2.0
PRODID:-//ChamberMaster//Event Calendar 2.0//EN
METHOD:PUBLISH
X-PUBLISHED-TTL:P3D
REFRESH-INTERVAL:P3D
CALSCALE:GREGORIAN
BEGIN:VEVENT
DTSTART:20151120T213000Z
DTEND:20151120T223000Z
X-MICROSOFT-CDO-ALLDAYEVENT:FALSE
SUMMARY:NOAH's Event Venue Grand Opening & Ribbon Cutting
DESCRIPTION:Please join the Auburn Hills Chamber as we celebrate the Grand Opening of NOAH's Event Venue with a ribbon cutting.  NOAH's is now open and available to help you celebrate all of life's important events including corporate events\, weddings\, and special occasions.
X-ALT-DESC;FMTTYPE=text/html:<span style="font-family:calibri\,sans-serif\;"><span style="font-size:11.0pt\;">Please join the Auburn Hills Chamber as we celebrate the Grand Opening of NOAH&rsquo\;s Event Venue with a ribbon cutting. &nbsp\;NOAH&#39\;s is now open and available to help you celebrate&nbsp\;all of life&rsquo\;s important events including corporate events\, weddings\, and special occasions.&nbsp\;&nbsp\;</span></span>
LOCATION:3390 Cross Creek Parkway Auburn Hills\, MI 48326
UID:e.1571.3618
SEQUENCE:3
DTSTAMP:20260425T001142Z
URL:https://business.auburnhillschamber.com/events/details/noah-s-event-venue-grand-opening-ribbon-cutting-11-20-2015-3618
END:VEVENT

END:VCALENDAR
