BEGIN:VCALENDAR
VERSION:2.0
PRODID:-//ChamberMaster//Event Calendar 2.0//EN
METHOD:PUBLISH
X-PUBLISHED-TTL:P3D
REFRESH-INTERVAL:P3D
CALSCALE:GREGORIAN
BEGIN:VEVENT
DTSTART:20141111T163000Z
DTEND:20141111T180000Z
X-MICROSOFT-CDO-ALLDAYEVENT:FALSE
SUMMARY:November Ambassador Committee Meeting
DESCRIPTION:
X-ALT-DESC;FMTTYPE=text/html:
LOCATION:Oakland University Credit Union
UID:e.1571.1016
SEQUENCE:3
DTSTAMP:20260426T035314Z
URL:https://business.auburnhillschamber.com/events/details/november-ambassador-committee-meeting-11-11-2014-1016
END:VEVENT

END:VCALENDAR
