BEGIN:VCALENDAR
VERSION:2.0
PRODID:-//ChamberMaster//Event Calendar 2.0//EN
METHOD:PUBLISH
X-PUBLISHED-TTL:P3D
REFRESH-INTERVAL:P3D
CALSCALE:GREGORIAN
BEGIN:VEVENT
DTSTART:20141119T230000Z
DTEND:20141120T010000Z
X-MICROSOFT-CDO-ALLDAYEVENT:FALSE
SUMMARY:Oakland Chamber Network Mixer
DESCRIPTION:Join us for the North Oakland County's Chamber Mixer!\n\nBuild your referral sources and prospective client base in a fun\, relaxed atmosphere.\n\n\n\nBring lots of business cards!  Includes refreshments.  Cash bar.
X-ALT-DESC;FMTTYPE=text/html:<br>\n<span style="line-height: 20.7999992370605px\;">Join us for the North Oakland County's Chamber Mixer!</span><br>\n<span style="line-height: 20.7999992370605px\;">Build your referral sources and prospective client base in a fun\, relaxed atmosphere.</span><br style="line-height: 20.7999992370605px\;">\n<br style="line-height: 20.7999992370605px\;">\nBring lots of business cards!&nbsp\; Includes refreshments.&nbsp\; Cash bar.<br>\n&nbsp\;
LOCATION:Downtown 51 Grille 51 North Saginaw Street Pontiac\, MI 48342
UID:e.1571.1190
SEQUENCE:3
DTSTAMP:20260426T035134Z
URL:https://business.auburnhillschamber.com/events/details/oakland-chamber-network-mixer-11-19-2014-1190
END:VEVENT

END:VCALENDAR
