BEGIN:VCALENDAR
VERSION:2.0
PRODID:-//ChamberMaster//Event Calendar 2.0//EN
METHOD:PUBLISH
X-PUBLISHED-TTL:P3D
REFRESH-INTERVAL:P3D
CALSCALE:GREGORIAN
BEGIN:VEVENT
DTSTART:20180423T130000Z
DTEND:20180423T180000Z
X-MICROSOFT-CDO-ALLDAYEVENT:FALSE
SUMMARY:Oakland Christian School Open House
DESCRIPTION:Oakland Christian School invites you to visit our Open House on Monday\, April 23 from 9:00 a.m. to 2:00 p.m. We offer Preschool through 12th grade with many exciting programs including an Elementary Spanish Immersion curriculum\, a STEM program\, AP and college dual enrollment classes\, and a variety of extracurricular activities. Stop by and check us out or visit www.oaklandchristian.com for more information!
X-ALT-DESC;FMTTYPE=text/html:Oakland Christian School invites you to visit our Open House on Monday\, April 23 from 9:00 a.m. to 2:00 p.m. We offer Preschool through 12th grade with many exciting programs including an Elementary Spanish Immersion curriculum\, a STEM program\, AP and college dual enrollment classes\, and a variety of extracurricular activities. Stop by and check us out or visit www.oaklandchristian.com for more information!
LOCATION:3075 Shimmons Rd. Auburn Hills\, MI
UID:e.1571.6031
SEQUENCE:3
DTSTAMP:20260422T024500Z
URL:https://business.auburnhillschamber.com/events/details/oakland-christian-school-open-house-04-23-2018-6031
END:VEVENT

END:VCALENDAR
