BEGIN:VCALENDAR
VERSION:2.0
PRODID:-//ChamberMaster//Event Calendar 2.0//EN
METHOD:PUBLISH
X-PUBLISHED-TTL:P3D
REFRESH-INTERVAL:P3D
CALSCALE:GREGORIAN
BEGIN:VEVENT
DTSTART;VALUE=DATE:20170619
DTEND;VALUE=DATE:20170728
TRANSP:TRANSPARENT
X-MICROSOFT-CDO-ALLDAYEVENT:TRUE
SUMMARY:Oakland Christian Schools Summer Camps
DESCRIPTION:Come join our summer camps available for preschool - 8th grade!  Science\, engineering\, technology\, Spanish\, and sports camps!
X-ALT-DESC;FMTTYPE=text/html:Come join our summer camps available for preschool - 8th grade! &nbsp\;Science\, engineering\, technology\, Spanish\, and sports camps!
LOCATION:
UID:e.1571.4644
SEQUENCE:3
DTSTAMP:20260423T013044Z
URL:https://business.auburnhillschamber.com/events/details/oakland-christian-schools-summer-camps-4644
END:VEVENT

END:VCALENDAR
