BEGIN:VCALENDAR
VERSION:2.0
PRODID:-//ChamberMaster//Event Calendar 2.0//EN
METHOD:PUBLISH
X-PUBLISHED-TTL:P3D
REFRESH-INTERVAL:P3D
CALSCALE:GREGORIAN
BEGIN:VEVENT
DTSTART:20170318T170000Z
DTEND:20170318T200000Z
X-MICROSOFT-CDO-ALLDAYEVENT:FALSE
SUMMARY:Patient Appreciation Day - Sheldon Chiropractic & Wellness
DESCRIPTION:Sheldon Chiropractic & Wellness\n\nPatient Appreciation Day\n\nPast - Present- Future Patients\n\n\n\nCome join the festivities: enjoy food and beverages\n\n\n\n Great savings and opportunity for NEW patients when an appointment is made and paid for the - $89.00 (exam\, consultation\, x-rays\, 1st treatment - $235 value) * Complimentary gift for referring patient.\n\n	Dr. Sheldon will be speaking on great and simple ways to help you like a Healthier Lifestyle.\n	Register for Complimentary Nutritional Consultation\n	 Complimentary fot scan + 20% off Orthotics when purchased by 3/18/17\n	Raffle prizes every 20 minutes\n	Complimentary Chair Massage\n\n \n\n\n\n Dr. Steve Sheldon D.C. would like to show his great appreciation to all of his faithful patients for their support over the past 31 years!
X-ALT-DESC;FMTTYPE=text/html:Sheldon Chiropractic &amp\; Wellness<br />\nPatient Appreciation Day<br />\nPast - Present- Future Patients<br />\n<br />\nCome join the festivities: enjoy food and beverages<br />\n<br />\n&#8203\;Great savings and opportunity for NEW patients when an appointment is made and paid for the - $89.00 (exam\, consultation\, x-rays\, 1st treatment - $235 value) * Complimentary gift for referring patient.\n<ul>\n	<li>Dr. Sheldon will be speaking on great and simple ways to help you like a Healthier Lifestyle.</li>\n	<li>Register for Complimentary Nutritional Consultation</li>\n	<li>&#8203\;Complimentary fot scan + 20% off Orthotics when purchased by 3/18/17</li>\n	<li>Raffle prizes every 20 minutes</li>\n	<li>Complimentary Chair Massage</li>\n</ul>\n&#8203\;<br />\n<br />\n&#8203\;Dr. Steve Sheldon D.C. would like to show his great appreciation to all of his faithful patients for their support over the past 31 years!
LOCATION:Sheldon Chiropractic & Wellness 32 South Squirrel Road Auburn Hills\, MI 48326
UID:e.1571.4633
SEQUENCE:3
DTSTAMP:20260423T100052Z
URL:https://business.auburnhillschamber.com/events/details/patient-appreciation-day-sheldon-chiropractic-wellness-4633
END:VEVENT

END:VCALENDAR
