BEGIN:VCALENDAR
VERSION:2.0
PRODID:-//ChamberMaster//Event Calendar 2.0//EN
METHOD:PUBLISH
X-PUBLISHED-TTL:P3D
REFRESH-INTERVAL:P3D
CALSCALE:GREGORIAN
BEGIN:VEVENT
DTSTART:20141202T210000Z
DTEND:20141203T030000Z
X-MICROSOFT-CDO-ALLDAYEVENT:FALSE
SUMMARY:Pistons 50/50 Payday Game
DESCRIPTION:It's "Detroit Basketball" time of year and the Chamber has an opportunity to raise funds for the Pistons Come Together Foundation as we raise visibility for our own organization. This foundation supports charitable organizations throughout the state of Michigan through the Pistons 50/50 Payday raffle program. \n\n\n\nWe are looking for 30 volunteers to sell 50/50 tickets at the Pistons vs LA Lakers at home game on Tuesday\, Dec 2. The game starts at 7:30 pm\, but volunteers must arrive at 4:00 pm. For your efforts\, each volunteer will receive 4 lower-level ticket vouchers to a future Pistons game.
X-ALT-DESC;FMTTYPE=text/html:<span style="line-height: 20.7999992370605px\;">It&rsquo\;s &ldquo\;Detroit Basketball&rdquo\; time of year and the Chamber has an opportunity to raise funds for the Pistons Come Together Foundation as we raise visibility for our own organization. This foundation supports charitable organizations throughout the state of Michigan through the Pistons 50/50 Payday raffle program.&nbsp\;</span><br style="line-height: 20.7999992370605px\;" />\n<br style="line-height: 20.7999992370605px\;" />\n<span style="line-height: 20.7999992370605px\;">We are looking for 30 volunteers to sell 50/50 tickets at the Pistons vs LA Lakers&nbsp\;at&nbsp\;home game on Tuesday\, Dec 2.&nbsp\;The game starts at 7:30 pm\, but volunteers must arrive at 4:00 pm. For your efforts\, each volunteer will receive 4 lower-level ticket vouchers to a future Pistons game.</span>
LOCATION:Palace of Auburn Hills 6 Championship Drive Auburn Hills\, MI 48326
UID:e.1571.1279
SEQUENCE:3
DTSTAMP:20260426T023754Z
URL:https://business.auburnhillschamber.com/events/details/pistons-50-50-payday-game-12-02-2014-1279
END:VEVENT

END:VCALENDAR
