BEGIN:VCALENDAR
VERSION:2.0
PRODID:-//ChamberMaster//Event Calendar 2.0//EN
METHOD:PUBLISH
X-PUBLISHED-TTL:P3D
REFRESH-INTERVAL:P3D
CALSCALE:GREGORIAN
BEGIN:VEVENT
DTSTART:20191012T133000Z
DTEND:20191012T160000Z
X-MICROSOFT-CDO-ALLDAYEVENT:FALSE
SUMMARY:Pre-Grand Opening Open House & FREE Workout
DESCRIPTION:In honor of our upcoming Grand Opening we will be hosting an Open House and FREE community workout on Saturday October 12th from 9:30 am until Noon. Workout will be held at 10am. Workout is open to all ages and fitness levels. Stop in to tour the gym and enter into a raffle to win many exciting GIVEAWAYS\, including a FREE MEMBERSHIP!
X-ALT-DESC;FMTTYPE=text/html:<span style="color:rgb(34\, 34\, 34)\; font-family:arial\,helvetica\,sans-serif\; font-size:small">In honor of our upcoming Grand Opening we will be hosting an Open House and FREE community workout on Saturday October 12th from 9:30 am until Noon. Workout will be held at 10am. Workout is open to all ages and fitness levels. Stop in to tour the gym and enter into a raffle to win many exciting GIVEAWAYS\, including a FREE MEMBERSHIP!</span>
LOCATION:Downtown Auburn Hills 44 South Squirrel Road Auburn Hills MI. 48326
UID:e.1571.10254
SEQUENCE:3
DTSTAMP:20260419T163947Z
URL:https://business.auburnhillschamber.com/events/details/pre-grand-opening-open-house-free-workout-10254
END:VEVENT

END:VCALENDAR
