BEGIN:VCALENDAR
VERSION:2.0
PRODID:-//ChamberMaster//Event Calendar 2.0//EN
METHOD:PUBLISH
X-PUBLISHED-TTL:P3D
REFRESH-INTERVAL:P3D
CALSCALE:GREGORIAN
BEGIN:VEVENT
DTSTART:20170620T220000Z
DTEND:20170620T230000Z
X-MICROSOFT-CDO-ALLDAYEVENT:FALSE
SUMMARY:Preschool and Kindergarten Info Meetings
DESCRIPTION:Come hear about our preschool and kindergarten options as well as our Spanish Immersion program!
X-ALT-DESC;FMTTYPE=text/html:Come hear about our preschool and kindergarten options as well as our Spanish Immersion program!
LOCATION:
UID:e.1571.4643
SEQUENCE:3
DTSTAMP:20260423T025853Z
URL:https://business.auburnhillschamber.com/events/details/preschool-and-kindergarten-info-meetings-06-20-2017-4643
END:VEVENT

END:VCALENDAR
