BEGIN:VCALENDAR
VERSION:2.0
PRODID:-//ChamberMaster//Event Calendar 2.0//EN
METHOD:PUBLISH
X-PUBLISHED-TTL:P3D
REFRESH-INTERVAL:P3D
CALSCALE:GREGORIAN
BEGIN:VEVENT
DTSTART:20160505T120000Z
DTEND:20160505T140000Z
X-MICROSOFT-CDO-ALLDAYEVENT:FALSE
SUMMARY:Professional Development Breakfast
DESCRIPTION:A continuation of our women's series\; the program aims to foster individual professional development\, build peer networks\, and encourage best practices. The program strives to support diverse group of participants\, including race/ethnicity\, field of work\, and types of employment responsibilities.\n\n \n\nTopics Include:\n\n* Handle challenges along your career path\n\n* Set and maintain goals for your future\n\n* Seek mentors/role models \n\n* Maintain on-going networking
X-ALT-DESC;FMTTYPE=text/html:<div style="color: gray\;">\n<p style="margin: 0in 0in 0pt\;"><span style="color: rgb(51\, 51\, 51)\; font-family: &quot\;Arial&quot\;\,sans-serif\; font-size: 10pt\;">A continuation of our women&#39\;s series\; the program aims to foster individual professional development\, build peer networks\, and encourage best practices. The program strives to support diverse group of participants\, including race/ethnicity\, field of work\, and types of employment responsibilities.</span></p>\n\n<p style="margin: 0in 0in 0pt\;"><span style="color: rgb(51\, 51\, 51)\; font-family: &quot\;Arial&quot\;\,sans-serif\; font-size: 10pt\;">&nbsp\;<br />\n<strong>Topics Include</strong>:</span></p>\n\n<p style="margin: 0in 0in 0pt\;"><span style="color: rgb(51\, 51\, 51)\; font-family: &quot\;Arial&quot\;\,sans-serif\; font-size: 10pt\;">* Handle challenges along your career path</span></p>\n\n<p style="margin: 0in 0in 0pt\;"><span style="color: rgb(51\, 51\, 51)\; font-family: &quot\;Arial&quot\;\,sans-serif\; font-size: 10pt\;">* Set and maintain goals for your future</span></p>\n\n<p style="margin: 0in 0in 0pt\;"><span style="color: rgb(51\, 51\, 51)\; font-family: &quot\;Arial&quot\;\,sans-serif\; font-size: 10pt\;">* Seek mentors/role&nbsp\;models&nbsp\;</span></p>\n\n<p style="margin: 0in 0in 0pt\;"><span style="color: rgb(51\, 51\, 51)\; font-family: &quot\;Arial&quot\;\,sans-serif\; font-size: 10pt\;">* Maintain on-going&nbsp\;networking</span></p>\n</div>\n
LOCATION:Great Lakes Crossing Rainforest Cafe 4310 Baldwin Rd\, Auburn Hills\, MI 48326
UID:e.1571.3579
SEQUENCE:3
DTSTAMP:20260424T075418Z
URL:https://business.auburnhillschamber.com/events/details/professional-development-breakfast-05-05-2016-3579
END:VEVENT

END:VCALENDAR
