BEGIN:VCALENDAR
VERSION:2.0
PRODID:-//ChamberMaster//Event Calendar 2.0//EN
METHOD:PUBLISH
X-PUBLISHED-TTL:P3D
REFRESH-INTERVAL:P3D
CALSCALE:GREGORIAN
BEGIN:VEVENT
DTSTART:20161207T230000Z
DTEND:20161208T010000Z
X-MICROSOFT-CDO-ALLDAYEVENT:FALSE
SUMMARY:Prostate Cancer Signature Survivorship Event
DESCRIPTION:MIU Men's Health Foundation warmly invites you to our Prostate Cancer Signature Survivorship Event. This multidisciplinary event focuses on the overall health of the survivor\; including prostate health\, sexual health\, mental health\, physical well-being and nutrition. \n\n \n\nInvest in your health for you and your family and please join us to learn more about prostate cancer\, treatment options and to be part of a comprehensive discussion on health and wellness as a survivor with an expert panel.
X-ALT-DESC;FMTTYPE=text/html:<span style="font-size:12px"><span style="font-size:14px"><em><span style="font-family:arial\,sans-serif">MIU Men&rsquo\;s Health Foundation warmly invites you to our Prostate Cancer Signature Survivorship Event. This multidisciplinary event focuses on the overall health of the survivor\; including prostate health\, sexual health\, mental health\, physical well-being and nutrition. </span></em><br />\n&nbsp\;</span><br />\n<em><span style="font-family:arial\,sans-serif"><span style="font-size:14px">Invest in your health for you and your family and please join us to learn more about prostate cancer\, treatment options and to be part of a comprehensive discussion on health and wellness as a survivor with an expert panel.</span>&nbsp\;</span></em></span>
LOCATION:Karmanos' Weisberg Cancer Treatment Center 31995 Northwestern Highway Farmington Hills\, MI 48334
UID:e.1571.4089
SEQUENCE:3
DTSTAMP:20260423T181420Z
URL:https://business.auburnhillschamber.com/events/details/prostate-cancer-signature-survivorship-event-4089
END:VEVENT

END:VCALENDAR
