BEGIN:VCALENDAR
VERSION:2.0
PRODID:-//ChamberMaster//Event Calendar 2.0//EN
METHOD:PUBLISH
X-PUBLISHED-TTL:P3D
REFRESH-INTERVAL:P3D
CALSCALE:GREGORIAN
BEGIN:VEVENT
DTSTART:20151106T140000Z
DTEND:20151106T150000Z
X-MICROSOFT-CDO-ALLDAYEVENT:FALSE
SUMMARY:Public Policy Meeting
DESCRIPTION:
X-ALT-DESC;FMTTYPE=text/html:
LOCATION:TBD
UID:e.1571.1439
SEQUENCE:3
DTSTAMP:20260425T012015Z
URL:https://business.auburnhillschamber.com/events/details/public-policy-meeting-11-06-2015-1439
END:VEVENT

END:VCALENDAR
