BEGIN:VCALENDAR
VERSION:2.0
PRODID:-//ChamberMaster//Event Calendar 2.0//EN
METHOD:PUBLISH
X-PUBLISHED-TTL:P3D
REFRESH-INTERVAL:P3D
CALSCALE:GREGORIAN
BEGIN:VEVENT
DTSTART:20170323T203000Z
DTEND:20170323T213000Z
X-MICROSOFT-CDO-ALLDAYEVENT:FALSE
SUMMARY:Ribbon Cutting at Oakland Christian School
DESCRIPTION:Oakland Christian School is a private pre-kindergarten 12 school located in Auburn Hills\, Oakland County\, Michigan. Please join us for a ribbon cutting ceremony.
X-ALT-DESC;FMTTYPE=text/html:<span>Oakland Christian School is a private pre-kindergarten&ndash\;12 school located in Auburn Hills\, Oakland County\, Michigan.</span><span><span> Please join us for a ribbon cutting ceremony.</span></span>
LOCATION:Oakland Christian School 3075 Shimmons Rd. Auburn Hills\, MI 48326
UID:e.1571.4634
SEQUENCE:3
DTSTAMP:20260423T100222Z
URL:https://business.auburnhillschamber.com/events/details/ribbon-cutting-at-oakland-christian-schools-4634
END:VEVENT

END:VCALENDAR
