BEGIN:VCALENDAR
VERSION:2.0
PRODID:-//ChamberMaster//Event Calendar 2.0//EN
METHOD:PUBLISH
X-PUBLISHED-TTL:P3D
REFRESH-INTERVAL:P3D
CALSCALE:GREGORIAN
BEGIN:VEVENT
DTSTART:20170602T190000Z
DTEND:20170602T200000Z
X-MICROSOFT-CDO-ALLDAYEVENT:FALSE
SUMMARY:Ribbon Cutting & Grand Opening of Villa Montclair
DESCRIPTION:Please join us for a Ribbon Cutting celebrating the official grand opening of two  detached single-family home models within the active 55+ adult luxury community know as Villa Montclair  (a Moceri property).\n\nLocated on the west side of North Squirrel Road\, between Dutton and Tienken Roads\, this age-friendly community offers ranch style homes with wider doorways\, adequate maneuvering space in the kitchen and bathrooms\, switches and handles that are easy to reach and operate\, slide-out shelving\, and main floor master bedrooms. Residents of 30-acre Villa Montclair will have access to a clubhouse\, swimming pool\, walking trails and a community garden.
X-ALT-DESC;FMTTYPE=text/html:<p><span style="margin: 0px\; color: black\;"><font face="Calibri" size="3">Please join us for a Ribbon Cutting&nbsp\;celebrating the official&nbsp\;grand opening of two </font></span><span style="display: none\;">&nbsp\;</span><span lang="EN" style="margin: 0px\; color: black\;"><font face="Calibri" size="3">detached single-family home models within the active 55+ adult luxury community know as Villa Montclair </font></span><span style="display: none\;">&nbsp\;</span><span style="margin: 0px\; color: black\;"><font face="Calibri" size="3">(a Moceri property).</font></span></p>\n\n<p><span lang="EN" style="margin: 0px\; color: black\;"><font face="Calibri" size="3">Located on the west side of North Squirrel Road\, between Dutton and Tienken Roads\, this age-friendly community offers ranch style homes with wider doorways\, adequate maneuvering space in the kitchen and bathrooms\, switches and handles that are easy to reach and operate\, slide-out shelving\, and main floor master bedrooms. </font></span><span lang="EN" style="margin: 0px\; color: black\;"><font face="Calibri" size="3">Residents of 30-acre </font></span><i><font face="Calibri" size="3">Villa Montclair</font></i><span style="margin: 0px\;"><span lang="EN" style="margin: 0px\; color: black\;"><font face="Calibri" size="3"> will have access to a clubhouse\, swimming pool\, walking trails and a community garden. </font></span></span></p>\n\n<p style="margin:0in\;margin-bottom:.0001pt">&nbsp\;</p>\n\n<p style="margin:0in\;margin-bottom:.0001pt"><span lang="EN" style="margin: 0px\; color: black\;"><font face="Calibri" size="3">&nbsp\;</font></span></p>\n\n<p style="margin:0in\;margin-bottom:.0001pt">&nbsp\;</p>\n
LOCATION:Map to Villa Montclair https://www.google.com/maps/place/3395+Squirrel+Road\,+Auburn+Hills\,+MI+48326/@42.6897588\,-83.2241573\,17z/data=!3m1!4b1!4m5!3m4!1s0x8824eaee92e97a07:0xdda2a36513ce3aa1!8m2!3d42.6897588!4d-83.2219686
UID:e.1571.4936
SEQUENCE:3
DTSTAMP:20260423T030604Z
URL:https://business.auburnhillschamber.com/events/details/ribbon-cutting-grand-opening-of-villa-montclair-4936
END:VEVENT

END:VCALENDAR
