BEGIN:VCALENDAR
VERSION:2.0
PRODID:-//ChamberMaster//Event Calendar 2.0//EN
METHOD:PUBLISH
X-PUBLISHED-TTL:P3D
REFRESH-INTERVAL:P3D
CALSCALE:GREGORIAN
BEGIN:VEVENT
DTSTART:20160519T190000Z
DTEND:20160519T200000Z
X-MICROSOFT-CDO-ALLDAYEVENT:FALSE
SUMMARY:Ribbon Cutting & Open House
DESCRIPTION:Please join us for a Ribbon Cutting event for new member JW Tech/Quantum Data Center.  JW Tek is a full service IT provider that offers many services such as IT support\, phone systems\, internet services\, hosting solutions\, and virtual servers.
X-ALT-DESC;FMTTYPE=text/html:<span style="font-size:medium\;"><span style="font-family:calibri\;">Please join us for a Ribbon Cutting event for new member JW Tech/Quantum Data Center.&nbsp\; </span></span><strong><span style="font-weight:normal\;"><span style="font-family:calibri\,sans-serif\;"><span style="font-size:medium\;">JW Tek</span></span></span></strong><span style="font-size:medium\;"><span style="font-family:calibri\;"> is a full service IT provider that offers many services such as IT support\, phone systems\, internet services\, hosting solutions\, and virtual servers.</span></span><br />\n&nbsp\;
LOCATION:JW Tech/Quantum Data Center 1030 Doris Road Auburn Hills\, MI 48326
UID:e.1571.3706
SEQUENCE:3
DTSTAMP:20260424T092349Z
URL:https://business.auburnhillschamber.com/events/details/ribbon-cutting-open-house-05-19-2016-3706
END:VEVENT

END:VCALENDAR
