BEGIN:VCALENDAR
VERSION:2.0
PRODID:-//ChamberMaster//Event Calendar 2.0//EN
METHOD:PUBLISH
X-PUBLISHED-TTL:P3D
REFRESH-INTERVAL:P3D
CALSCALE:GREGORIAN
BEGIN:VEVENT
DTSTART:20180413T203000Z
DTEND:20180413T220000Z
X-MICROSOFT-CDO-ALLDAYEVENT:FALSE
SUMMARY:Riding on the Edge Lecture & Book Signing
DESCRIPTION:
X-ALT-DESC;FMTTYPE=text/html:
LOCATION:Meadow Brook Hall
UID:e.1571.6004
SEQUENCE:3
DTSTAMP:20260422T024318Z
URL:https://business.auburnhillschamber.com/events/details/riding-on-the-edge-lecture-book-signing-6004
END:VEVENT

END:VCALENDAR
