BEGIN:VCALENDAR
VERSION:2.0
PRODID:-//ChamberMaster//Event Calendar 2.0//EN
METHOD:PUBLISH
X-PUBLISHED-TTL:P3D
REFRESH-INTERVAL:P3D
CALSCALE:GREGORIAN
BEGIN:VEVENT
DTSTART:20260518T220000Z
DTEND:20260519T003000Z
X-MICROSOFT-CDO-ALLDAYEVENT:FALSE
SUMMARY:Rove Winery 5-Course Wine Dinner
DESCRIPTION:A night out\, done right.\n\nJoin us for an elevated 5-course wine dinner featuring Rove Winery\, thoughtfully paired with a seasonal menu created in partnership with Wooden Whisk Creations.\n\nThis is more than a tasting it's a fully guided\, seated dinner designed to be savored. Each course is paired with a Rove wine\, highlighting how food and wine interact in ways that are both intentional and memorable.\n\nHosted by Rove co-owner McKenzie Gallagher\, you'll be guided through the evening with insight into the wines\, the pairings\, and the story behind each pour bringing you closer to the people behind the bottle.\n\nThe Experience Includes:\n\n  Welcome pour to begin the evening\n\n  Five courses\, each paired with a Rove wine\n\n  Guided discussion throughout the dinner\n\nThe Menu:\n\nPinot Blanc '24 + shrimp tostada (mango   coconut   lime)\n\nUnoaked Chardonnay '23 + lemon butter cod (spinach   dill   sourdough)\n\nRagaire Ros  '24 + strawberry arugula salad (feta   pecan   basil)\n\nPinot Noir '23 + lamb chop (cherry   herb   zucchini)\n\nGew rztraminer '24 + sesame miso tartlette (vanilla   pineapple   ginger)\n\nWhether you're planning a date night or just want a unique night out\, this is one of the most immersive ways to experience Michigan wine.\n\nDetails:\n\nMonday\, May 18\n\n6 8:30 PM\n\nMichigan by the Bottle   Auburn Hills\n\n$120 per person (tax + gratuity included)\n\nLimited seating. Advance tickets required.
X-ALT-DESC;FMTTYPE=text/html:<p><span style="color:rgb(0\, 0\, 0)"><span style="font-family:times new roman\,serif\; font-size:12pt">A night out\, done right.</span></span></p>\n\n<p><span style="color:rgb(0\, 0\, 0)"><span style="font-family:times new roman\,serif\; font-size:12pt">Join us for an elevated 5-course wine dinner featuring Rove Winery\, thoughtfully paired with a seasonal menu created in partnership with Wooden Whisk Creations.</span></span></p>\n\n<p><span style="color:rgb(0\, 0\, 0)"><span style="font-family:times new roman\,serif\; font-size:12pt">This is more than a tasting&mdash\;it&rsquo\;s a fully guided\, seated dinner designed to be savored. Each course is paired with a Rove wine\, highlighting how food and wine interact in ways that are both intentional and memorable.</span></span></p>\n\n<p><span style="color:rgb(0\, 0\, 0)"><span style="font-family:times new roman\,serif\; font-size:12pt">Hosted by Rove co-owner McKenzie Gallagher\, you&rsquo\;ll be guided through the evening with insight into the wines\, the pairings\, and the story behind each pour&mdash\;bringing you closer to the people behind the bottle.</span></span></p>\n\n<p><span style="color:rgb(0\, 0\, 0)"><strong>The Experience Includes:</strong><br />\n<span style="font-family:times new roman\,serif\; font-size:12pt">&bull\; Welcome pour to begin the evening</span><br />\n<span style="font-family:times new roman\,serif\; font-size:12pt">&bull\; Five courses\, each paired with a Rove wine</span><br />\n<span style="font-family:times new roman\,serif\; font-size:12pt">&bull\; Guided discussion throughout the dinner</span></span></p>\n\n<p><span style="color:rgb(0\, 0\, 0)"><strong>The Menu:</strong><br />\n<span style="font-family:times new roman\,serif\; font-size:12pt">Pinot Blanc &lsquo\;24 + shrimp tostada (mango &bull\; coconut &bull\; lime)</span><br />\n<span style="font-family:times new roman\,serif\; font-size:12pt">Unoaked Chardonnay &lsquo\;23 + lemon butter cod (spinach &bull\; dill &bull\; sourdough)</span><br />\n<span style="font-family:times new roman\,serif\; font-size:12pt">Ragaire Ros&eacute\; &lsquo\;24 + strawberry arugula salad (feta &bull\; pecan &bull\; basil)</span><br />\n<span style="font-family:times new roman\,serif\; font-size:12pt">Pinot Noir &lsquo\;23 + lamb chop (cherry &bull\; herb &bull\; zucchini)</span><br />\n<span style="font-family:times new roman\,serif\; font-size:12pt">Gew&uuml\;rztraminer &lsquo\;24 + sesame miso tartlette (vanilla &bull\; pineapple &bull\; ginger)</span></span></p>\n\n<p><span style="color:rgb(0\, 0\, 0)"><span style="font-family:times new roman\,serif\; font-size:12pt">Whether you&#39\;re planning a date night or just want a unique night out\, this is one of the most immersive ways to experience Michigan wine.</span></span></p>\n\n<p><span style="color:rgb(0\, 0\, 0)"><strong>Details:</strong><br />\n<span style="font-family:times new roman\,serif\; font-size:12pt">Monday\, May 18</span><br />\n<span style="font-family:times new roman\,serif\; font-size:12pt">6&ndash\;8:30 PM</span><br />\n<span style="font-family:times new roman\,serif\; font-size:12pt">Michigan by the Bottle &ndash\; Auburn Hills</span></span></p>\n\n<p><span style="color:rgb(0\, 0\, 0)"><span style="font-family:times new roman\,serif\; font-size:12pt">$120 per person (tax + gratuity included)</span></span></p>\n\n<p><span style="color:rgb(0\, 0\, 0)"><span style="font-family:times new roman\,serif\; font-size:12pt">Limited seating. Advance tickets required.</span></span></p>\n
LOCATION:Michigan by the Bottle Auburn Hills
UID:e.1571.17545
SEQUENCE:3
DTSTAMP:20260422T113327Z
URL:https://business.auburnhillschamber.com/events/details/rove-winery-5-course-wine-dinner-17545
END:VEVENT

END:VCALENDAR
