BEGIN:VCALENDAR
VERSION:2.0
PRODID:-//ChamberMaster//Event Calendar 2.0//EN
METHOD:PUBLISH
X-PUBLISHED-TTL:P3D
REFRESH-INTERVAL:P3D
CALSCALE:GREGORIAN
BEGIN:VEVENT
DTSTART:20180424T123000Z
DTEND:20180424T143000Z
X-MICROSOFT-CDO-ALLDAYEVENT:FALSE
SUMMARY:Seminar: Tips and Tools to Attract and Retain Top Talent
DESCRIPTION:Developing an effective team can be a daunting task. Not only is the challenge attracting and retaining top talent\, but also finding the best ways to develop talent along the way. Join HRPro/BenePro at Automation Alley for a roundtable discussion to move you from ideas to execution in order to build your team and become a talent magnet. Learn about all the helpful tools designed to simplify the process and to help support your efforts. All tools are not created equal. Do you have the time to investigate what will work best for your organization? April 24\, 2018 8:30 a.m.   10:30 a.m. at Automation Alley. To register and more information: https://goo.gl/GMd53P
X-ALT-DESC;FMTTYPE=text/html:Developing an effective team can be a daunting task. Not only is the challenge attracting and retaining top talent\, but also finding the best ways to develop talent along the way. Join HRPro/BenePro at Automation Alley for a roundtable discussion to move you from ideas to execution in order to build your team and become a talent magnet. Learn about all the helpful tools designed to simplify the process and to help support your efforts. All tools are not created equal. Do you have the time to investigate what will work best for your organization? April 24\, 2018 8:30 a.m. &ndash\; 10:30 a.m. at Automation Alley. To register and more information: https://goo.gl/GMd53P
LOCATION:Automation Alley\, 2675 Bellingham Dr.\, Troy\, MI 48083
UID:e.1571.6038
SEQUENCE:3
DTSTAMP:20260422T024521Z
URL:https://business.auburnhillschamber.com/events/details/seminar-tips-and-tools-to-attract-and-retain-top-talent-6038
END:VEVENT

END:VCALENDAR
