BEGIN:VCALENDAR
VERSION:2.0
PRODID:-//ChamberMaster//Event Calendar 2.0//EN
METHOD:PUBLISH
X-PUBLISHED-TTL:P3D
REFRESH-INTERVAL:P3D
CALSCALE:GREGORIAN
BEGIN:VEVENT
DTSTART:20160311T210000Z
DTEND:20160311T220000Z
X-MICROSOFT-CDO-ALLDAYEVENT:FALSE
SUMMARY:Sherwin-Williams Ribbon Cutting & Grand Opening
DESCRIPTION:Please join us for a Ribbon Cutting ceremony on Friday\, March 11 at 4:00pm celebrating the new Sherwin-William paint store.  The party continues on Saturday from 8:00am   6:00pm with a special 40% off and free face painting for kids.
X-ALT-DESC;FMTTYPE=text/html:<span style="font-family: arial\;"><span style="font-size: 14px\;">Please join us for a Ribbon Cutting ceremony on Friday\, March 11 at 4:00pm celebrating the new Sherwin-William paint store.&nbsp\; The party continues on Saturday from 8:00am &ndash\; 6:00pm with a special 40% off and free face painting for kids. &nbsp\;</span></span><br />\n&nbsp\;
LOCATION:4913 S Baldwin Lake Orion\, MI 48359
UID:e.1571.3684
SEQUENCE:3
DTSTAMP:20260424T132042Z
URL:https://business.auburnhillschamber.com/events/details/sherwin-williams-ribbon-cutting-grand-opening-03-11-2016-3684
END:VEVENT

END:VCALENDAR
