BEGIN:VCALENDAR
VERSION:2.0
PRODID:-//ChamberMaster//Event Calendar 2.0//EN
METHOD:PUBLISH
X-PUBLISHED-TTL:P3D
REFRESH-INTERVAL:P3D
CALSCALE:GREGORIAN
BEGIN:VEVENT
DTSTART:20160520T170000Z
DTEND:20160520T210000Z
X-MICROSOFT-CDO-ALLDAYEVENT:FALSE
SUMMARY:Staffing Law Seminar
DESCRIPTION:Put Pilchak & Cohen's 25 years of Labor & Employment Experience in the Staffing Industry to Work for you.  Neither staffing companies nor their customers should mis this session\, given the current litigation climate and government agency activism. The government has focused on the contingent workforce\, and so should you.  Pilchak & Cohen's own\, Bill Pilchak and Dan Cohen\, will be discussing topics you will hear nowhere else.  Topics include:\n\n    - FMLA & ADA Issues with Contract Staff\n\n    - EEO and Joint Employment Issues\n\n    - Benefit and Affordable Care Act Issues with Contract Staff\n\n    - Liability & Indemnity for Acts of Temporary Employees\n\n    - Emerging NLRA & Union Organizing Issues in a Temp + Perm Environment\n\n    - Immigration\, Citizenship\, Visa\, I-9\, EAR/ITAR Issues\n\n    - Tempnapping\, No-Hire & Non-Compete Agreements
X-ALT-DESC;FMTTYPE=text/html:Put Pilchak &amp\; Cohen&#39\;s 25 years of Labor &amp\; Employment Experience in the Staffing Industry to Work for you.&nbsp\; Neither staffing companies nor their customers should&nbsp\;mis this session\, given the current litigation climate and government agency activism. The government has focused on the contingent workforce\, and so should you.&nbsp\; Pilchak &amp\; Cohen&#39\;s own\, Bill Pilchak and Dan Cohen\, will be discussing topics you will hear nowhere else.&nbsp\; Topics include:<br />\n&nbsp\;&nbsp\;&nbsp\; - FMLA &amp\; ADA Issues with Contract Staff<br />\n&nbsp\;&nbsp\;&nbsp\; - EEO and Joint Employment Issues<br />\n&nbsp\;&nbsp\;&nbsp\; - Benefit and Affordable Care Act Issues with Contract Staff<br />\n&nbsp\;&nbsp\;&nbsp\; - Liability &amp\; Indemnity for Acts of Temporary Employees<br />\n&nbsp\;&nbsp\;&nbsp\; - Emerging NLRA &amp\; Union Organizing Issues in a Temp + Perm Environment<br />\n&nbsp\;&nbsp\;&nbsp\; - Immigration\, Citizenship\, Visa\, I-9\, EAR/ITAR Issues<br />\n&nbsp\;&nbsp\;&nbsp\; - Tempnapping\, No-Hire &amp\; Non-Compete Agreements<br />\n<br />\n<br />\n&nbsp\;
LOCATION:Office of Pilchak & Cohen\, PC\, 3062 E. Walton Blvd.\, Auburn Hills\, MI 48326 / 248.409.1900
UID:e.1571.3701
SEQUENCE:3
DTSTAMP:20260424T091445Z
URL:https://business.auburnhillschamber.com/events/details/staffing-law-seminar-05-20-2016-3701
END:VEVENT

END:VCALENDAR
