BEGIN:VCALENDAR
VERSION:2.0
PRODID:-//ChamberMaster//Event Calendar 2.0//EN
METHOD:PUBLISH
X-PUBLISHED-TTL:P3D
REFRESH-INTERVAL:P3D
CALSCALE:GREGORIAN
BEGIN:VEVENT
DTSTART:20171114T143000Z
DTEND:20171114T160000Z
X-MICROSOFT-CDO-ALLDAYEVENT:FALSE
SUMMARY:Starting Up: An Introduction to Michigan's Entrepreneurial Ecosystem
DESCRIPTION:Do you have a high-tech startup? How about an early-stage\, growth-based business? Are you looking to bring your innovative idea to market? If so\, OU INC invites you to attend Starting Up\, a workshop exploring Michigan's "entrepreneurial ecosystem\," designed to help you start and/or grow your tech-based business. Steve Kent\, OU INC's client strategist\, will help you navigate the wide range of resources the State of Michigan offers   including business incubators\, SmartZones\, various support services\, university technology acceleration and commercialization\, and funding programs   to identify what's right for you and your business. A brief Q&A session will follow. Register at hgioxpcxda.formstack.com/forms/starting_up_111417.
X-ALT-DESC;FMTTYPE=text/html:Do you have a high-tech startup? How about an early-stage\, growth-based business? Are you looking to bring your innovative idea to market? If so\, OU INC invites you to attend Starting Up\, a workshop exploring Michigan&rsquo\;s &ldquo\;entrepreneurial ecosystem\,&rdquo\; designed to help you start and/or grow your tech-based business. Steve Kent\, OU INC&rsquo\;s client strategist\, will help you navigate the wide range of resources the State of Michigan offers &ndash\; including business incubators\, SmartZones\, various support services\, university technology acceleration and commercialization\, and funding programs &ndash\; to identify what&rsquo\;s right for you and your business. A brief Q&amp\;A session will follow. Register at <a href="https://hgioxpcxda.formstack.com/forms/starting_up_111417">hgioxpcxda.formstack.com/forms/starting_up_111417.</a>
LOCATION:OU INC at Shotwell-Gustafson Pavilion 419 Golf View Lane Rochester\, MI 48309
UID:e.1571.5890
SEQUENCE:3
DTSTAMP:20260422T221848Z
URL:https://business.auburnhillschamber.com/events/details/starting-up-an-introduction-to-michigan-s-entrepreneurial-ecosystem-5890
END:VEVENT

END:VCALENDAR
