BEGIN:VCALENDAR
VERSION:2.0
PRODID:-//ChamberMaster//Event Calendar 2.0//EN
METHOD:PUBLISH
X-PUBLISHED-TTL:P3D
REFRESH-INTERVAL:P3D
CALSCALE:GREGORIAN
BEGIN:VEVENT
DTSTART:20150122T130000Z
DTEND:20150122T150000Z
X-MICROSOFT-CDO-ALLDAYEVENT:FALSE
SUMMARY:State of the Community
DESCRIPTION:Hear from Keynote Speaker Kevin McDaniel\, Mayor of Auburn Hills\, and other community leaders as they share the vision for one of Michigan's most dynamic cities!\n\n\n\nThe State of the Community includes plenty of time to network with business and community leaders over a robust breakfast in the Pistons VIP Lounge.  \n\n\n\nThe event includes a Community Expo\, an update from the Auburn Hills Chamber of Commerce\, and the induction of the 2015 Chamber Board of Directors.\n\nYou don't want to miss this power-packed morning!\n\n\n\nDue to the nature of this events\, no walk ins will be accommodated.  All tickets need to be reserved and paid for in full by January 15.  Last minute reservations will be limited.
X-ALT-DESC;FMTTYPE=text/html:<span>Hear from Keynote Speaker Kevin McDaniel\, Mayor of Auburn Hills\, and other community leaders as they share the vision for one of Michigan&#39\;s most dynamic cities!</span><br />\n<br />\nThe State of the Community includes plenty of time to network with business and community leaders over a robust breakfast in the Pistons VIP Lounge. &nbsp\;<br />\n<br />\nThe event includes a Community Expo\, an update from the Auburn Hills Chamber of Commerce\, and the induction of the 2015 Chamber Board of Directors.<br />\n<strong>You don&#39\;t want to miss this power-packed morning!</strong><br />\n<br />\n<span style="line-height: 20.7999992370605px\;">Due to the nature of this events\, no walk ins will be accommodated.&nbsp\; All tickets need to be reserved and paid for in full by January 15.&nbsp\; Last minute reservations will be limited. &nbsp\;</span>
LOCATION:The Palace of Auburn Hills 6 Championship Drive Auburn Hills\, MI 48326 (Use the North entrance and park in the North Pavilion)
UID:e.1571.1193
SEQUENCE:3
DTSTAMP:20260426T023805Z
URL:https://business.auburnhillschamber.com/events/details/state-of-the-community-01-22-2015-1193
END:VEVENT

END:VCALENDAR
