BEGIN:VCALENDAR
VERSION:2.0
PRODID:-//ChamberMaster//Event Calendar 2.0//EN
METHOD:PUBLISH
X-PUBLISHED-TTL:P3D
REFRESH-INTERVAL:P3D
CALSCALE:GREGORIAN
BEGIN:VEVENT
DTSTART;VALUE=DATE:20260601
DTEND;VALUE=DATE:20260820
TRANSP:TRANSPARENT
X-MICROSOFT-CDO-ALLDAYEVENT:TRUE
SUMMARY:Summer Camps Are Here – Let’s Get Kids Moving!
DESCRIPTION:Reds Events is excited to bring an incredible lineup of summer camps and training opportunities to the Auburn Hills community! Whether your child is just getting started or looking to sharpen their skills\, our camps are designed to help athletes build confidence\, develop skills\, make friends\, and have FUN in a positive\, high-energy environment.\n\nLed by experienced coaches\, each camp focuses on age-appropriate training\, teamwork\, and a love for the game. Reds Events creates an experience kids will look forward to all summer long.\n\n? Why families love our camps:\n\n\n	Open to all players   no club affiliation required\n	Skill-building in a supportive\, encouraging environment\n	Flexible summer scheduling options\n	Great way to stay active and engaged\n\nBonus: Many of our camps are FSA (Flexible Spending Account) eligible\, making it even easier for families to invest in their child's development and activity this summer.\n\n\n\nSpots are limited and filling quickly!\n\n?? Register today and secure your child's spot: https://www.redsevents.com/camps
X-ALT-DESC;FMTTYPE=text/html:<p>Reds Events is excited to bring an incredible lineup of <strong>summer camps and training opportunities</strong> to the Auburn Hills community! Whether your child is just getting started or looking to sharpen their skills\, our camps are designed to help athletes <strong>build confidence\, develop skills\, make friends\, and have FUN</strong> in a positive\, high-energy environment.</p>\n\n<p>Led by experienced coaches\, each camp focuses on age-appropriate training\, teamwork\, and a love for the game. Reds Events creates an experience kids will look forward to all summer long.</p>\n\n<p>? <strong>Why families love our camps:</strong></p>\n\n<ul>\n	<li>Open to all players &ndash\; no club affiliation required</li>\n	<li>Skill-building in a supportive\, encouraging environment</li>\n	<li>Flexible summer scheduling options</li>\n	<li>Great way to stay active and engaged</li>\n</ul>\n<strong>Bonus:</strong> Many of our camps are <strong>FSA (Flexible Spending Account) eligible</strong>\, making it even easier for families to invest in their child&rsquo\;s development and activity this summer.<br />\n<br />\n<strong>Spots are limited and filling quickly!</strong>\n\n<p>?? <strong>Register today and secure your child&rsquo\;s spot:&nbsp\;</strong><a href="https://www.redsevents.com/camps">https://www.redsevents.com/camps</a></p>\n
LOCATION:
UID:e.1571.17552
SEQUENCE:3
DTSTAMP:20260424T170653Z
URL:https://business.auburnhillschamber.com/events/details/summer-camps-are-here-let-s-get-kids-moving-17552
END:VEVENT

END:VCALENDAR
