BEGIN:VCALENDAR
VERSION:2.0
PRODID:-//ChamberMaster//Event Calendar 2.0//EN
METHOD:PUBLISH
X-PUBLISHED-TTL:P3D
REFRESH-INTERVAL:P3D
CALSCALE:GREGORIAN
BEGIN:VEVENT
DTSTART;VALUE=DATE:20150503
DTEND;VALUE=DATE:20150504
TRANSP:TRANSPARENT
X-MICROSOFT-CDO-ALLDAYEVENT:TRUE
SUMMARY:Sweets for LLS!
DESCRIPTION:The great folks at Sweets!are donating a portion of their proceeds  to the Leukemia & Lymphoma Society!! \n\n\n\nIn 2010\, my dad\, Bob Ochalek\, was diagnosed with leukemia on his birthday\, May 4th.   25 days later on May 29th\, we lost him to this awful disease.   In honor of my dad's life\, I have decided to raise money for the Leukemia & Lymphoma Society (LLS).   My mom & I will be traveling to Mackinac Island in June\, where I will be participating in a 100-mile bike ride  (a century ride!)  and  I have committed to raising $2500 in order to participate.   I have been training with 'Team in Training' to get ready and I need your help as well!
X-ALT-DESC;FMTTYPE=text/html:<span style="font-size:14px"><span style="font-family:arial\,helvetica\,sans-serif">The great folks at Sweets!are donating a portion of their proceeds &nbsp\;to the Leukemia &amp\; Lymphoma Society!!&nbsp\;</span></span><br />\n<br />\n<span style="font-size:11px"><span style="font-family:arial\,helvetica\,sans-serif">In 2010\, my dad\, Bob Ochalek\, was diagnosed with leukemia on his birthday\, May 4th. &nbsp\; 25 days later on May 29th\, we lost him to this awful disease. &nbsp\; In honor of my dad&rsquo\;s life\, I have decided to raise money for the Leukemia &amp\; Lymphoma Society (LLS). &nbsp\; My mom &amp\; I will be traveling to Mackinac Island in June\, where I will be participating in a 100-mile bike ride &nbsp\;(a century ride!) &ndash\;and &nbsp\;I have committed to raising $2500 in order to participate. &nbsp\; I have been training with &lsquo\;Team in Training&rsquo\; to get ready and I need your help as well!</span></span><br />\n<br />\n<br />\n<br />\n&nbsp\;
LOCATION:3395 Auburn Road Auburn Hills\, MI 48326 (Corner of Auburn and Squirrel)
UID:e.1571.2316
SEQUENCE:3
DTSTAMP:20260425T103922Z
URL:https://business.auburnhillschamber.com/events/details/sweets-for-lls-05-03-2015-2316
END:VEVENT

END:VCALENDAR
