BEGIN:VCALENDAR
VERSION:2.0
PRODID:-//ChamberMaster//Event Calendar 2.0//EN
METHOD:PUBLISH
X-PUBLISHED-TTL:P3D
REFRESH-INTERVAL:P3D
CALSCALE:GREGORIAN
BEGIN:VEVENT
DTSTART:20191017T210000Z
DTEND:20191017T233000Z
X-MICROSOFT-CDO-ALLDAYEVENT:FALSE
SUMMARY:Taste of Auburn Hills 2019
DESCRIPTION:Join us for our annual Taste of Auburn Hills event! With over 15 participating vendors\, you can enjoy a fun night out tasting your way through Auburn Hills and mingling with other members of the business community. This year\, enjoy a unique experience at The HUB Stadium. Taste delicious food samplings from area restaurants\, mingle with 500+ business community leaders\, experience BOMBOWLING\, hit the networking bulls-eye with axe-throwing and open play with The HUB Stadium's newly renovated arcade\, featuring modernized classics and multiplayer entertainment. Two beer/wine drink tickets will be distributed by The HUB Stadium\, 21 and over.\n\n\nA portion of the proceeds from this year's event will benefit the Auburn Hills Community Foundation in support of the Senior Services Meals program. To learn more\, visit: auburnhillscf.org\n\n \n\nParticipating Vendors:\n\nCostco Wholesale\n\nDairy Queen of Auburn Hills\n\nFamily Table Cafe\n\nFogo de Chao Brazilian Steakhouse\n\nFreshii\n\nGloria Jean's Coffees\n\nLafayette Market\n\nLongHorn Steakhouse\n\nNothing Bundt Cakes\n\nOn The Border\n\nO'Malley's at Crowne Plaza\n\nRangoli Indian Cusine\n\nRochester Mills Beer Co.\n\nThe HUB Stadium\n\nThe Townsend Hotel\n\nTopgolf\n\nZalman's Delicatessen\nSponsorship Opportunities:\n\n\n\nLead Event Sponsor - $5\,000\n\n\n	Top billing on all digital and print media\n	Inclusion in all publicity \n	Inclusion in all advertising \n	Name on website event landing page \n	Logo featured on event handout\n	30 Tickets\n\nPresenting Sponsor- $4\,000\n\n\n	2nd placement level on all digital and print media\n	Inclusion in all publicity \n	Inclusion in all advertising\n	Large banner at event \n	Logo featured on event handout \n	25 Tickets\n\nCommunity Outreach Sponsor- $2\,500\n\n\n	Digital and Print Branding Visibility \n	Inclusion in all publicity \n	Inclusion in all advertising\n	Name on website event landing page \n	Logo featured on event handout\n	20 Tickets\n\nGold Level Sponsor- $1\,500\n\n\n	Digital and print branding visibility \n	Name on website landing page \n	Logo featured on event handout\n	15 Tickets\n\nSilver Level Sponsor-$1\,000\n\n\n	Digital and print branding visibility\n	Name on the website event landing page \n	Logo featured on event handout\n	10 Tickets\n\nBronze Level Sponsor- $500\n\n\n	Digital and print branding visibility \n	Name on the website event landing page \n	Logo featured on event handout \n	5 Tickets \n\n\n\nTo join our sponsors: contact Courtney Price at 248.853.7862 or cprice@auburnhillschamber.com\n\n\n\nRefund & Registration Policy: \n\nPayment is considered final\, and non-refundable\, unless there is a quality issue that cannot be otherwise addressed. Registration for all events\, programs and membership is considered complete upon full payment.  An invoice payment option will be available on most events until 14 days prior to the event date. Cash and credit cards are always accepted. A confirmation will be sent for all transactions with the Auburn Hills Chamber.
X-ALT-DESC;FMTTYPE=text/html:<p><span style="font-size:14px\;"><span style="font-family:arial\;">Join us for our annual Taste of Auburn Hills event! With over 15 participating vendors\, you can enjoy a fun night out tasting your way through Auburn Hills and mingling with other members of the business community. This year\, enjoy a unique experience at The HUB Stadium. Taste delicious food samplings from area restaurants\, mingle with 500+ business community leaders\, experience BOMBOWLING\, hit the networking bulls-eye with axe-throwing and open play with The HUB Stadium&#39\;s newly renovated arcade\, featuring modernized classics and multiplayer entertainment. Two beer/wine drink tickets will be distributed by The HUB Stadium\, 21 and over.</span></span></p>\n<br />\n<span style="font-family:arial\;"><span style="font-size:14px\;">A portion of the proceeds from this year&#39\;s event will benefit the Auburn Hills Community Foundation in support of the Senior Services Meals program. To learn more\, visit: auburnhillscf.org<br />\n&nbsp\;<br />\n<strong>Participating Vendors:</strong></span></span>\n\n<p>Costco Wholesale<br />\nDairy Queen of Auburn Hills<br />\nFamily Table Cafe<br />\nFogo de Chao Brazilian Steakhouse<br />\nFreshii<br />\nGloria Jean&#39\;s Coffees<br />\nLafayette Market<br />\nLongHorn Steakhouse<br />\nNothing Bundt Cakes<br />\nOn The Border<br />\nO&#39\;Malley&#39\;s at Crowne Plaza<br />\nRangoli Indian Cusine<br />\nRochester Mills Beer Co.<br />\nThe HUB Stadium<br />\nThe Townsend Hotel<br />\nTopgolf<br />\nZalman&#39\;s Delicatessen</p>\n<u><b>Sponsorship Opportunities:</b></u><br />\n<br />\n<strong>Lead Event Sponsor - $5\,000</strong>\n\n<ul>\n	<li>Top billing on all digital and print media</li>\n	<li>Inclusion in all publicity&nbsp\;</li>\n	<li>Inclusion in all advertising&nbsp\;</li>\n	<li>Name on website event landing page&nbsp\;</li>\n	<li>Logo featured on event handout</li>\n	<li>30 Tickets</li>\n</ul>\n<strong>Presenting Sponsor- $4\,000</strong>\n\n<ul>\n	<li>2nd placement level on all digital and print media</li>\n	<li>Inclusion in all publicity&nbsp\;</li>\n	<li>Inclusion in all advertising</li>\n	<li>Large banner at event&nbsp\;</li>\n	<li>Logo featured on event handout&nbsp\;</li>\n	<li>25 Tickets</li>\n</ul>\n<strong>Community Outreach Sponsor- $2\,500</strong>\n\n<ul>\n	<li>Digital and Print Branding Visibility&nbsp\;</li>\n	<li>Inclusion in all publicity&nbsp\;</li>\n	<li>Inclusion in all advertising</li>\n	<li>Name on website event landing page&nbsp\;</li>\n	<li>Logo featured on event handout</li>\n	<li>20 Tickets</li>\n</ul>\n<strong>Gold Level Sponsor- $1\,500</strong>\n\n<ul>\n	<li>Digital and print branding visibility&nbsp\;</li>\n	<li>Name on website landing page&nbsp\;</li>\n	<li>Logo featured on event handout</li>\n	<li>15 Tickets</li>\n</ul>\n<strong>Silver Level Sponsor-$1\,000</strong>\n\n<ul>\n	<li>Digital and print branding visibility</li>\n	<li>Name on the website event landing page&nbsp\;</li>\n	<li>Logo featured on event handout</li>\n	<li>10 Tickets</li>\n</ul>\n<strong>Bronze Level Sponsor- $500</strong>\n\n<ul>\n	<li>Digital and print branding visibility&nbsp\;</li>\n	<li>Name on the website event landing page&nbsp\;</li>\n	<li>Logo featured on event handout&nbsp\;</li>\n	<li>5 Tickets&nbsp\;</li>\n</ul>\n<br />\n<strong>To join our sponsors:</strong>&nbsp\;contact Courtney Price at 248.853.7862&nbsp\;or cprice@auburnhillschamber.com<br />\n<br style="margin: 0px\; padding: 0px\; border-radius: 0px\; border: currentcolor\; left: auto\; top: auto\; width: auto\; height: auto\; right: auto\; bottom: auto\; line-height: 15.6px\; overflow: visible\; clear: none\; font-family: Arial\, Helvetica\, sans-serif\; font-size: 12px\; vertical-align: baseline\; float: none\; display: inline\; visibility: inherit\; border-collapse: separate\; position: static\; z-index: auto\; table-layout: auto\; direction: inherit\; max-height: none\; max-width: none\; content: normal\; box-sizing: content-box\; empty-cells: show\; font-stretch: inherit\; opacity: 1\; background-image: none\; resize: none\; outline-offset: 0px\;" />\n<span style="margin: 0px\; padding: 0px\; border-radius: 0px\; border: currentcolor\; left: auto\; top: auto\; width: auto\; height: auto\; right: auto\; bottom: auto\; line-height: 20.79px\; overflow: visible\; clear: none\; font-family: Arial\, Helvetica\, sans-serif\; font-size: 12px\; font-weight: 700\; vertical-align: baseline\; visibility: inherit\; border-collapse: separate\; position: static\; z-index: auto\; table-layout: auto\; direction: inherit\; max-height: none\; max-width: none\; content: normal\; box-sizing: content-box\; empty-cells: show\; font-stretch: inherit\; opacity: 1\; box-shadow: none\; background-image: none\; resize: none\; outline-offset: 0px\;">Refund &amp\; Registration Policy:&nbsp\;</span><br style="margin: 0px\; padding: 0px\; border-radius: 0px\; border: currentcolor\; left: auto\; top: auto\; width: auto\; height: auto\; right: auto\; bottom: auto\; line-height: 20.79px\; overflow: visible\; clear: none\; font-family: Arial\, Helvetica\, sans-serif\; font-size: 12px\; vertical-align: baseline\; float: none\; display: inline\; visibility: inherit\; border-collapse: separate\; position: static\; z-index: auto\; table-layout: auto\; direction: inherit\; max-height: none\; max-width: none\; content: normal\; box-sizing: content-box\; empty-cells: show\; font-stretch: inherit\; opacity: 1\; background-image: none\; resize: none\; outline-offset: 0px\;" />\n<span style="margin: 0px\; padding: 0px\; border-radius: 0px\; border: currentcolor\; left: auto\; top: auto\; width: auto\; height: auto\; right: auto\; bottom: auto\; line-height: 20.79px\; overflow: visible\; clear: none\; font-family: Arial\, Helvetica\, sans-serif\; font-size: 12px\; vertical-align: baseline\; visibility: inherit\; border-collapse: separate\; position: static\; z-index: auto\; table-layout: auto\; direction: inherit\; max-height: none\; max-width: none\; content: normal\; box-sizing: content-box\; empty-cells: show\; font-stretch: inherit\; opacity: 1\; box-shadow: none\; background-image: none\; resize: none\; outline-offset: 0px\;">Payment is considered final\, and non-refundable\, unless there is a quality issue that cannot be otherwise addressed. Registration for all events\, programs and membership is considered complete upon full payment.&nbsp\; An invoice payment option will be available on most events until 14 days prior to the event date. Cash and credit cards are always accepted. A confirmation will be sent for all transactions with the Auburn Hills Chamber.&nbsp\;</span>
LOCATION:The HUB Stadium 2550 Innovation Dr. Auburn Hills\, MI
UID:e.1571.6316
SEQUENCE:3
DTSTAMP:20260419T182115Z
URL:https://business.auburnhillschamber.com/events/details/taste-of-auburn-hills-2019-6316
END:VEVENT

END:VCALENDAR
