BEGIN:VCALENDAR
VERSION:2.0
PRODID:-//ChamberMaster//Event Calendar 2.0//EN
METHOD:PUBLISH
X-PUBLISHED-TTL:P3D
REFRESH-INTERVAL:P3D
CALSCALE:GREGORIAN
BEGIN:VEVENT
DTSTART:20150921T190000Z
DTEND:20150921T200000Z
X-MICROSOFT-CDO-ALLDAYEVENT:FALSE
SUMMARY:Taste of Auburn Hills Committee Meeting
DESCRIPTION:This Committee plans the Taste of Auburn Hills\, ensuring that the event meets its goals for quality\, fundraising and member satisfaction.  Meets monthly from March through November.
X-ALT-DESC;FMTTYPE=text/html:<span style="line-height: 20.7999992370605px\;">This Committee plans the Taste of Auburn Hills\, ensuring that the event meets its goals for quality\, fundraising and member satisfaction.&nbsp\; Meets monthly from March through November.</span>
LOCATION:Auburn Hills Chamber 3395A Auburn Road Auburn Hills\, MI 48326
UID:e.1571.1418
SEQUENCE:3
DTSTAMP:20260425T023604Z
URL:https://business.auburnhillschamber.com/events/details/taste-of-auburn-hills-committee-meeting-09-21-2015-1418
END:VEVENT

END:VCALENDAR
