BEGIN:VCALENDAR
VERSION:2.0
PRODID:-//ChamberMaster//Event Calendar 2.0//EN
METHOD:PUBLISH
X-PUBLISHED-TTL:P3D
REFRESH-INTERVAL:P3D
CALSCALE:GREGORIAN
BEGIN:VEVENT
DTSTART:20150319T203000Z
DTEND:20150319T230000Z
X-MICROSOFT-CDO-ALLDAYEVENT:FALSE
SUMMARY:Taste of Leadership Oakland
DESCRIPTION:Event features an address by L. Brooks Patterson\, presentation of "Leader of Leaders" awards\, a silent auction\, strolling hors d'oeuvres and a cash bar. Event gives guests a 'taste' of what Leadership Oakland is all about.
X-ALT-DESC;FMTTYPE=text/html:Event features an address by L. Brooks Patterson\, presentation of &quot\;Leader of Leaders&quot\; awards\, a silent auction\, strolling hors d&#39\;oeuvres and a cash bar. Event gives guests a &#39\;taste&#39\; of what Leadership Oakland is all about.
LOCATION:Troy Marriott 200 W. Big Beaver Rd.\, Troy\, MI
UID:e.1571.1697
SEQUENCE:3
DTSTAMP:20260425T204245Z
URL:https://business.auburnhillschamber.com/events/details/taste-of-leadership-oakland-03-19-2015-1697
END:VEVENT

END:VCALENDAR
