BEGIN:VCALENDAR
VERSION:2.0
PRODID:-//ChamberMaster//Event Calendar 2.0//EN
METHOD:PUBLISH
X-PUBLISHED-TTL:P3D
REFRESH-INTERVAL:P3D
CALSCALE:GREGORIAN
BEGIN:VEVENT
DTSTART:20150220T194500Z
DTEND:20150220T215000Z
X-MICROSOFT-CDO-ALLDAYEVENT:FALSE
SUMMARY:Tech248
DESCRIPTION:Connect with Potential IT/Tech partners suppliers & customers in Oakland County.\n\n\n\nTech248 Meet Ups are:\n\n	Tech focused\n	Inclusive of all tech companies\n	Held in a variety of cool spaces within Oakland County\n	Connecting youth to the tech industry\n	Encouraging networking and collaboration\n	Providing brief tech updates\n	Solicitation free\n\nTo register\, visit: advantageoakland.eventbrite.com
X-ALT-DESC;FMTTYPE=text/html:Connect with Potential IT/Tech partners suppliers &amp\; customers in Oakland County.<br />\n<br />\nTech248 Meet Ups are:\n<ul>\n	<li>Tech focused</li>\n	<li>Inclusive of all tech companies</li>\n	<li>Held in a variety of cool spaces within Oakland County</li>\n	<li>Connecting youth to the tech industry</li>\n	<li>Encouraging networking and collaboration</li>\n	<li>Providing brief tech updates</li>\n	<li>Solicitation free</li>\n</ul>\nTo register\, visit: <a href="http://dvantageoakland.eventbrite.com">a</a><a href="http://advantageoakland.eventbrite.com">dvantageoakland.eventbrite.com&nbsp\;</a>
LOCATION:Rochester Mills Production Facility 3275 W. Lapeer Rd Auburn Hills\, MI 48326
UID:e.1571.1691
SEQUENCE:3
DTSTAMP:20260426T012334Z
URL:https://business.auburnhillschamber.com/events/details/tech248-02-20-2015-1691
END:VEVENT

END:VCALENDAR
