BEGIN:VCALENDAR
VERSION:2.0
PRODID:-//ChamberMaster//Event Calendar 2.0//EN
METHOD:PUBLISH
X-PUBLISHED-TTL:P3D
REFRESH-INTERVAL:P3D
CALSCALE:GREGORIAN
BEGIN:VEVENT
DTSTART:20170505T120000Z
DTEND:20170505T130000Z
X-MICROSOFT-CDO-ALLDAYEVENT:FALSE
SUMMARY:TGIFN "The Friendliest Networking Group Around"
DESCRIPTION:About a year ago two local businessmen and I got together to form a new networking group with all the upside of a traditional paid networking group without the downside. We created TGIFN: Thanks Goodness It's Friday Networking. One year later the meetings have grown to over 35 attendees (once we had 50!) with always a few new faces.\n\n\n\nI'd like to invite my fellow Auburn Hills Chamber members to the next meeting.\n\n\n\n\n\nTGIFN returns Friday May 5th to A Bean to Go\, 16 W. Flint St. in Lake Orion. Join me for coffee and networking in a relaxed atmosphere. Bring plenty of cards to pass out and get ready to make some great business connections. Have your 30 second pitch ready for when we go around the horn for introductions.\n\n\n\nThink of it as Free N I. No fees\, no forced attendance and no phony referrals!\n\n\n\n\n\nOur group meets the first and third Friday of every month.  Contact me to be put on our e mail reminder list or for more information.\n\n\n\nI'll even buy you a coffee if you are a first time attendee!!\n\nI look forward to networking with you.\n\n\n\nAJH
X-ALT-DESC;FMTTYPE=text/html:About a year ago two&nbsp\;local businessmen&nbsp\;and I got together to&nbsp\;form a new networking group with all the upside of a traditional paid networking group without the downside. We created TGIFN: Thanks Goodness It&#39\;s Friday Networking. One year later the meetings have grown to over 35 attendees (once we had 50!)&nbsp\;with always a few new faces.<br />\n<br />\nI&#39\;d like to invite my fellow Auburn Hills Chamber members to the next meeting.<br />\n<br />\n<br />\n<strong>TGIFN</strong>&nbsp\;returns Friday May 5th&nbsp\;to A Bean to Go\, 16 W. Flint St. in Lake Orion. Join&nbsp\;me for coffee and networking in a relaxed atmosphere. Bring plenty of cards to pass out and get ready to make some great business connections. Have your 30 second pitch ready for when we go around the horn for introductions.<br />\n<br />\nThink of it as Free N I. No fees\, no forced attendance and no phony referrals!<br />\n<br />\n<br />\nOur group&nbsp\;meets the first and third Friday of every month.&nbsp\;&nbsp\;Contact me to be put on our e mail reminder list or for more information.<br />\n<br />\nI&#39\;ll even buy you a&nbsp\;coffee if you are a first time attendee!!<br />\nI look forward to networking with you.<br />\n<br />\nAJH
LOCATION:A Bean to Go 16 W Flint St Lake Orion\, MI
UID:e.1571.4664
SEQUENCE:3
DTSTAMP:20260423T043047Z
URL:https://business.auburnhillschamber.com/events/details/tgifn-the-friendliest-networking-group-around-4664
END:VEVENT

END:VCALENDAR
