BEGIN:VCALENDAR
VERSION:2.0
PRODID:-//ChamberMaster//Event Calendar 2.0//EN
METHOD:PUBLISH
X-PUBLISHED-TTL:P3D
REFRESH-INTERVAL:P3D
CALSCALE:GREGORIAN
BEGIN:VEVENT
DTSTART:20161202T233000Z
DTEND:20161203T033000Z
X-MICROSOFT-CDO-ALLDAYEVENT:FALSE
SUMMARY:The Cheers Gala
DESCRIPTION:The Cheers Gala is a fundraising event to raise awareness and support for Easterseals Michigan services. The event will feauture a casino themed night\, an exquisite strolling dinner and cash bar\, and silent action. We invite you to come support the cause and help Easterseals to change the way the world defines and views disabilities by making profound\, positive differences in peoples lives every day.
X-ALT-DESC;FMTTYPE=text/html:The Cheers Gala is a fundraising event to raise awareness and support for Easterseals Michigan services. The event will feauture a casino themed night\, an exquisite strolling dinner and cash bar\, and silent action. We invite you to come support the cause and help Easterseals to change the way the world defines and views disabilities by making profound\, positive differences in peoples lives every day.
LOCATION:The World Hetiage Air Museum Airport Hangar Oakland International Airport 1661 Airport Rd. Waterford\, MI 48327
UID:e.1571.3950
SEQUENCE:3
DTSTAMP:20260423T204147Z
URL:https://business.auburnhillschamber.com/events/details/the-cheers-gala-3950
END:VEVENT

END:VCALENDAR
