BEGIN:VCALENDAR
VERSION:2.0
PRODID:-//ChamberMaster//Event Calendar 2.0//EN
METHOD:PUBLISH
X-PUBLISHED-TTL:P3D
REFRESH-INTERVAL:P3D
CALSCALE:GREGORIAN
BEGIN:VEVENT
DTSTART:20160414T140000Z
DTEND:20160414T170000Z
X-MICROSOFT-CDO-ALLDAYEVENT:FALSE
SUMMARY:THE INS AND OUTS OF PRE-EMPLOYMENT TESTING
DESCRIPTION:Pre-employment assessment tests have proven to be beneficial in helping to screen and select the best candidates for jobs. Is your company doing everything it can to properly screen applicants and ensure pre-employment testing delivers the desired business outcomes? \n\nJoin us at Automation Alley as we kick off Season Four of the "Michigan's Got Talent" lunch-n-learn series with a panel discussion on the ins and outs of pre-employment assessment tests.\n\nPanelists will also discuss the different types of pre-employment tests (person-job fit\, hard skills\, critical thinking skills\, etc.) and how they can be used as a tool to mentor and promote from within once a candidate is hired. \n\nSponsored by: GTA Professional Staffing
X-ALT-DESC;FMTTYPE=text/html:<span style="color: rgb(64\, 64\, 65)\; font-family: arial\,gotham\,helvetica\,sans-serif\; font-size: 16px\;">Pre-employment assessment tests have proven to be beneficial in helping to screen and select the best candidates for jobs. Is your company doing everything it can to properly screen applicants and ensure pre-employment testing delivers the desired business outcomes?&nbsp\;</span><br />\n<span style="color: rgb(64\, 64\, 65)\; font-family: arial\,gotham\,helvetica\,sans-serif\; font-size: 16px\;">Join us at Automation Alley as we kick off Season Four of the &ldquo\;Michigan&rsquo\;s Got Talent&rdquo\; lunch-n-learn series with a panel discussion on the ins and outs of pre-employment assessment tests.</span><br />\n<span style="color: rgb(64\, 64\, 65)\; font-family: arial\,gotham\,helvetica\,sans-serif\; font-size: 16px\;">Panelists will also discuss the different types of pre-employment tests (person-job fit\, hard skills\, critical thinking skills\, etc.) and how they can be used as a tool to mentor and promote from within once a candidate is hired.&nbsp\;<br />\nSponsored by: GTA Professional Staffing</span>
LOCATION:Automation Alley\, 2675 Bellingham Dr.\, Troy\, MI 48083
UID:e.1571.3695
SEQUENCE:3
DTSTAMP:20260424T103438Z
URL:https://business.auburnhillschamber.com/events/details/the-ins-and-outs-of-pre-employment-testing-04-14-2016-3695
END:VEVENT

END:VCALENDAR
