BEGIN:VCALENDAR
VERSION:2.0
PRODID:-//ChamberMaster//Event Calendar 2.0//EN
METHOD:PUBLISH
X-PUBLISHED-TTL:P3D
REFRESH-INTERVAL:P3D
CALSCALE:GREGORIAN
BEGIN:VEVENT
DTSTART:20160607T153000Z
DTEND:20160607T170000Z
X-MICROSOFT-CDO-ALLDAYEVENT:FALSE
SUMMARY:THE MULTI-GENERATIONAL WORKFORCE
DESCRIPTION:Automation Alley welcomes Jason S. Morga\, vice president of Kelly Services Americas marketing group\, for a presentation on the multi-generational workforce. The aging and declining workforce is a global phenomenon\, taking place in all industries and across traditional boundaries.\n\n\n\nThis presentation explains why talent is dwindling\, and paints a detailed picture of those that comprise the contemporary workforce. It discusses the challenges employers face\, and offers suggestions for recruiting and retaining top talent. It also provides a glimpse around the corner at the future workforce and workplace.  This is the second lunch 'n' learn in season four of Automation Alley's Michigan's Got Talent event series.
X-ALT-DESC;FMTTYPE=text/html:<span style="background-color:rgb(255\, 255\, 255)\; color:rgb(64\, 64\, 65)">Automation Alley welcomes Jason S. Morga\, vice president of Kelly Services Americas marketing group\, for a presentation on the multi-generational workforce. The aging and declining workforce is a global phenomenon\, taking place in all industries and across traditional boundaries.<br />\n<br />\nThis presentation explains why talent is dwindling\, and paints a detailed picture of those that comprise&nbsp\;the contemporary workforce. It discusses the challenges employers face\, and offers suggestions for&nbsp\;recruiting and retaining top talent. It also provides a glimpse around the corner at the future workforce&nbsp\;and workplace.&nbsp\; This is the second lunch &lsquo\;n&rsquo\; learn in season four of Automation Alley&rsquo\;s Michigan&rsquo\;s Got Talent event series.&nbsp\;</span>
LOCATION:Automation Alley\, 2675 Bellingham Dr.\, Troy\, MI 48083
UID:e.1571.3704
SEQUENCE:3
DTSTAMP:20260424T055810Z
URL:https://business.auburnhillschamber.com/events/details/the-multi-generational-workforce-06-07-2016-3704
END:VEVENT

END:VCALENDAR
