BEGIN:VCALENDAR
VERSION:2.0
PRODID:-//ChamberMaster//Event Calendar 2.0//EN
METHOD:PUBLISH
X-PUBLISHED-TTL:P3D
REFRESH-INTERVAL:P3D
CALSCALE:GREGORIAN
BEGIN:VEVENT
DTSTART:20180223T150000Z
DTEND:20180223T170000Z
X-MICROSOFT-CDO-ALLDAYEVENT:FALSE
SUMMARY:Toxic Plants and Their Friends
DESCRIPTION:Meadow Brook Garden Club presents guest speaker\, Peter Carrington\, PhD.\, curator of W. J. Beal Botanical Garden at MSU and an edible and toxic plant specialist. Dr. Carrington will present an exploration of poison plants in our environment and the creatures who depend on them for food and defense. Coffee and refreshments will be served at 9:15 a.m. with program to follow at 10:00 a.m. Guests are welcome and reservations are not required. There is a $5 non-member fee. For more information\, call 248-364-6210\, email MBGCmembers@gmail.com or visit www.meadowbrookhall.org.
X-ALT-DESC;FMTTYPE=text/html:Meadow Brook Garden Club presents guest speaker\, Peter Carrington\, PhD.\, curator of W. J. Beal Botanical Garden at MSU and an edible and toxic plant specialist. Dr. Carrington will present an exploration of poison plants in our environment and the creatures who depend on them for food and defense. Coffee and refreshments will be served at 9:15 a.m. with program to follow at 10:00 a.m. Guests are welcome and reservations are not required. There is a $5 non-member fee. For more information\, call 248-364-6210\, email MBGCmembers@gmail.com or visit www.meadowbrookhall.org.
LOCATION:Meadow Brook Hall\, 350 Estate Dr.\, Rochester MI 48309-1904.
UID:e.1571.5942
SEQUENCE:3
DTSTAMP:20260422T080400Z
URL:https://business.auburnhillschamber.com/events/details/toxic-plants-and-their-friends-5942
END:VEVENT

END:VCALENDAR
