BEGIN:VCALENDAR
VERSION:2.0
PRODID:-//ChamberMaster//Event Calendar 2.0//EN
METHOD:PUBLISH
X-PUBLISHED-TTL:P3D
REFRESH-INTERVAL:P3D
CALSCALE:GREGORIAN
BEGIN:VEVENT
DTSTART:20150624T223000Z
DTEND:20150625T003000Z
X-MICROSOFT-CDO-ALLDAYEVENT:FALSE
SUMMARY:Understanding Your Rights At Religiously Sponsered Hospitals
DESCRIPTION:Across the state\, community hospitals such as Crittenton Hospital are merging with outher health systems to relieve financial stress. When the merger is with a religiously- sponsered health system\, religious doctrine can override medical standars of care or patients' wishes and access to care\; particularly those patients seeking end-of-life\, miscarriage and gynecological care. The ACLU of Michigan works directly with communities to find ways of protecting patients' rights and access to care when non-religious hospitals are proposing mergers. Come attend our event on June 24th at the Auburn Hills Public Library to learn more about how local hospital mergers can affect your access to important medical care.
X-ALT-DESC;FMTTYPE=text/html:Across the state\, community hospitals such as Crittenton Hospital are merging with outher health systems to relieve financial stress. When the merger is with a religiously- sponsered health system\, religious doctrine can override medical standars of care or patients&#39\; wishes and access to care\; particularly those patients seeking end-of-life\, miscarriage and gynecological care. The ACLU of Michigan works directly with communities to find ways of protecting patients&#39\; rights and access to care when non-religious hospitals are proposing mergers. Come attend our event on June 24th at the Auburn Hills Public Library to learn more about how local hospital mergers can affect your access to important medical care.
LOCATION:Auburn Hills Public Library\, Large Meeting Room
UID:e.1571.2341
SEQUENCE:3
DTSTAMP:20260425T105256Z
URL:https://business.auburnhillschamber.com/events/details/understanding-your-rights-at-religiously-sponsered-hospitals-06-24-2015-2341
END:VEVENT

END:VCALENDAR
