BEGIN:VCALENDAR
VERSION:2.0
PRODID:-//ChamberMaster//Event Calendar 2.0//EN
METHOD:PUBLISH
X-PUBLISHED-TTL:P3D
REFRESH-INTERVAL:P3D
CALSCALE:GREGORIAN
BEGIN:VEVENT
DTSTART:20160302T130000Z
DTEND:20160302T150000Z
X-MICROSOFT-CDO-ALLDAYEVENT:FALSE
SUMMARY:Women's Mentoring Breakfast
DESCRIPTION:Led by Lynda Gugel\, General Manager\, Human Resources at Volkswagen Group of America\, Inc.\, this event will focus on the importance of mentoring. How to be mentored\, how to seek a mentor\, how to be recognized and how to gain traction without being attention seeking. Even how to be on time\, dress for success and in general\, access higher level professionals in a meaningful and rewarding manner.  \nWe encourage you to bring a rising star from your organization!
X-ALT-DESC;FMTTYPE=text/html:<p><span style="font-size: 11pt\;"><span style="color: rgb(0\, 0\, 0)\; font-family: Calibri\,sans-serif\;">Led by Lynda Gugel\, General Manager\, Human Resources at Volkswagen Group of America\, Inc.\, this event</span><font face="Calibri\, Arial\, Helvetica\, sans-serif">&nbsp\;will focus on the&nbsp\;importance of mentoring. How&nbsp\;</font><font face="Calibri\, Arial\, Helvetica\, sans-serif">to be mentored\,&nbsp\;how to seek a mentor\, how to be recognized and&nbsp\;how to gain traction without being attention seeking. Even how to be on time\, dress for success and in general\, access higher level professionals in a meaningful and rewarding manner. &nbsp\;</font></span></p>\n<font face="Calibri\,sans-serif" style="font-size: 11pt\;">We encourage you to bring&nbsp\;a rising star from your organization!</font>
LOCATION:Noah's Event Venue 3390 Cross Creek Parkway Auburn Hills
UID:e.1571.3572
SEQUENCE:3
DTSTAMP:20260424T131716Z
URL:https://business.auburnhillschamber.com/events/details/women-s-mentoring-breakfast-03-02-2016-3572
END:VEVENT

END:VCALENDAR
