BEGIN:VCALENDAR
VERSION:2.0
PRODID:-//ChamberMaster//Event Calendar 2.0//EN
METHOD:PUBLISH
X-PUBLISHED-TTL:P3D
REFRESH-INTERVAL:P3D
CALSCALE:GREGORIAN
BEGIN:VEVENT
DTSTART:20150127T140000Z
DTEND:20150127T150000Z
X-MICROSOFT-CDO-ALLDAYEVENT:FALSE
SUMMARY:Workforce Development Meeting
DESCRIPTION:The Workforce Development Committee is comprised of leaders in primary and secondary education. This group supports the shared goals of the business community\, and educators and meets regularly.
X-ALT-DESC;FMTTYPE=text/html:The Workforce Development Committee is comprised of leaders in primary and secondary education. This group supports the shared goals of the business community\, and educators and meets regularly.
LOCATION:TBD
UID:e.1571.1415
SEQUENCE:3
DTSTAMP:20260426T023446Z
URL:https://business.auburnhillschamber.com/events/details/workforce-development-meeting-01-27-2015-1415
END:VEVENT

END:VCALENDAR
