BEGIN:VCALENDAR
VERSION:2.0
PRODID:-//ChamberMaster//Event Calendar 2.0//EN
METHOD:PUBLISH
X-PUBLISHED-TTL:P3D
REFRESH-INTERVAL:P3D
CALSCALE:GREGORIAN
BEGIN:VEVENT
DTSTART:20151116T140000Z
DTEND:20151116T150000Z
X-MICROSOFT-CDO-ALLDAYEVENT:FALSE
SUMMARY:Workforce Development Meeting
DESCRIPTION:The Workforce Development Committee is comprised of leaders in education\, business and staffing firms. This group has been established to address the growing talent shortage and to maximize opportunities for Michigan employers and employees.
X-ALT-DESC;FMTTYPE=text/html:The Workforce Development Committee is comprised of leaders in education\, business and staffing firms. This group has been established to address the growing talent shortage and to maximize opportunities for Michigan employers and employees.&nbsp\;
LOCATION:Auburn Hills Chamber Conference Room
UID:e.1571.1440
SEQUENCE:3
DTSTAMP:20260425T000730Z
URL:https://business.auburnhillschamber.com/events/details/workforce-development-meeting-11-16-2015-1440
END:VEVENT

END:VCALENDAR
