BEGIN:VCALENDAR
VERSION:2.0
PRODID:-//ChamberMaster//Event Calendar 2.0//EN
METHOD:PUBLISH
X-PUBLISHED-TTL:P3D
REFRESH-INTERVAL:P3D
CALSCALE:GREGORIAN
BEGIN:VEVENT
DTSTART:20180109T133000Z
DTEND:20180109T203000Z
X-MICROSOFT-CDO-ALLDAYEVENT:FALSE
SUMMARY:Write On! Emails\, Letters and Reports training
DESCRIPTION:How you write (yes even emails and texts) impacts your professional credibility\, and the level of responsiveness of your readers. This workshop emphasizes readability of written communications through a series of tips on creating clear\, concise documents. It also covers legal issues\, tone\, and provides specific formats for various types of documents. Participants will have fun learning in a collegial atmosphere of practice and feedback.
X-ALT-DESC;FMTTYPE=text/html:How you write (yes even emails and texts) impacts your professional credibility\, and the level of responsiveness of your readers. This workshop emphasizes readability of written communications through a series of tips on creating clear\, concise documents. It also covers legal issues\, tone\, and provides specific formats for various types of documents. Participants will have fun learning in a collegial atmosphere of practice and feedback.
LOCATION:Western Michigan University Auburn Hills Campus 2630 Featherstone Rd. Auburn Hills\, MI 48326
UID:e.1571.5932
SEQUENCE:3
DTSTAMP:20260422T094802Z
URL:https://business.auburnhillschamber.com/events/details/write-on-emails-letters-and-reports-training-5932
END:VEVENT

END:VCALENDAR
