BEGIN:VCALENDAR
VERSION:2.0
PRODID:-//ChamberMaster//Event Calendar 2.0//EN
METHOD:PUBLISH
X-PUBLISHED-TTL:P3D
REFRESH-INTERVAL:P3D
CALSCALE:GREGORIAN
BEGIN:VEVENT
DTSTART:20141110T200000Z
DTEND:20141110T210000Z
X-MICROSOFT-CDO-ALLDAYEVENT:FALSE
SUMMARY:Young Professionals Network
DESCRIPTION:The Young Professionals Network meets regularly to plan and promote events focused on the development and connection of the region's emerging leaders. The group is seeking additional members.  If interested please contact the Auburn Hills Chamber.
X-ALT-DESC;FMTTYPE=text/html:The Young Professionals Network meets regularly to plan and promote events focused on the development and connection of the region&rsquo\;s emerging leaders. The group is seeking additional members.&nbsp\; If interested please contact the Auburn Hills Chamber.
LOCATION:Chamber Office
UID:e.1571.1080
SEQUENCE:3
DTSTAMP:20260426T040025Z
URL:https://business.auburnhillschamber.com/events/details/young-professionals-network-11-10-2014-1080
END:VEVENT

END:VCALENDAR
