BEGIN:VCALENDAR
VERSION:2.0
PRODID:-//ChamberMaster//Event Calendar 2.0//EN
METHOD:PUBLISH
X-PUBLISHED-TTL:P3D
REFRESH-INTERVAL:P3D
CALSCALE:GREGORIAN
BEGIN:VEVENT
DTSTART:20150108T200000Z
DTEND:20150108T210000Z
X-MICROSOFT-CDO-ALLDAYEVENT:FALSE
SUMMARY:Young Professionals Roundtable
DESCRIPTION:The Young Professionals Committee connects emerging leaders with networking opportunities and business connections in the area. Meets throughout the year.
X-ALT-DESC;FMTTYPE=text/html:<span style="line-height: 20.7999992370605px\;">The Young Professionals Committee connects emerging leaders with networking opportunities and business connections in the area. Meets throughout the year.</span>
LOCATION:Auburn Hills Chamber 3395A Auburn Road Auburn Hills\, MI 48326
UID:e.1571.1441
SEQUENCE:3
DTSTAMP:20260426T023507Z
URL:https://business.auburnhillschamber.com/events/details/young-professionals-roundtable-01-08-2015-1441
END:VEVENT

END:VCALENDAR
